BEGIN:VCALENDAR
VERSION:2.0
PRODID:-//89.7 The River - ECPv6.15.20//NONSGML v1.0//EN
CALSCALE:GREGORIAN
METHOD:PUBLISH
X-ORIGINAL-URL:https://897theriver.com
X-WR-CALDESC:Events for 89.7 The River
REFRESH-INTERVAL;VALUE=DURATION:PT1H
X-Robots-Tag:noindex
X-PUBLISHED-TTL:PT1H
BEGIN:VTIMEZONE
TZID:America/Chicago
BEGIN:DAYLIGHT
TZOFFSETFROM:-0600
TZOFFSETTO:-0500
TZNAME:CDT
DTSTART:20220313T080000
END:DAYLIGHT
BEGIN:STANDARD
TZOFFSETFROM:-0500
TZOFFSETTO:-0600
TZNAME:CST
DTSTART:20221106T070000
END:STANDARD
BEGIN:DAYLIGHT
TZOFFSETFROM:-0600
TZOFFSETTO:-0500
TZNAME:CDT
DTSTART:20230312T080000
END:DAYLIGHT
BEGIN:STANDARD
TZOFFSETFROM:-0500
TZOFFSETTO:-0600
TZNAME:CST
DTSTART:20231105T070000
END:STANDARD
BEGIN:DAYLIGHT
TZOFFSETFROM:-0600
TZOFFSETTO:-0500
TZNAME:CDT
DTSTART:20240310T080000
END:DAYLIGHT
BEGIN:STANDARD
TZOFFSETFROM:-0500
TZOFFSETTO:-0600
TZNAME:CST
DTSTART:20241103T070000
END:STANDARD
END:VTIMEZONE
BEGIN:VEVENT
DTSTART;TZID=America/Chicago:20231130T193000
DTEND;TZID=America/Chicago:20231203T160000
DTSTAMP:20260423T085156
CREATED:20230314T161819Z
LAST-MODIFIED:20230327T155909Z
UID:10000987-1701372600-1701619200@897theriver.com
SUMMARY:Cirque du Soleil Corteo
DESCRIPTION:Cirque du Soleil Corteo \n\nNovember 30th\, 2023\, at 7:30 p.m.\nDecember 1st\, 2023\, at 7:30 p.m.\nDecember 2nd\, 2023\, at 3:30 p.m. & 7:30 p.m.\nDecember 3rd\, 2023\, at 1 p.m.\n\n 
URL:https://897theriver.com/event/cirque-du-soleil-corteo/
LOCATION:CHI Health Center\, 455 N 10th St\, Omaha\, NE\, 68102\, United States
END:VEVENT
END:VCALENDAR