BEGIN:VCALENDAR
VERSION:2.0
PRODID:-//89.7 The River - ECPv6.15.20//NONSGML v1.0//EN
CALSCALE:GREGORIAN
METHOD:PUBLISH
X-WR-CALNAME:89.7 The River
X-ORIGINAL-URL:https://897theriver.com
X-WR-CALDESC:Events for 89.7 The River
REFRESH-INTERVAL;VALUE=DURATION:PT1H
X-Robots-Tag:noindex
X-PUBLISHED-TTL:PT1H
BEGIN:VTIMEZONE
TZID:America/Chicago
BEGIN:DAYLIGHT
TZOFFSETFROM:-0600
TZOFFSETTO:-0500
TZNAME:CDT
DTSTART:20230312T080000
END:DAYLIGHT
BEGIN:STANDARD
TZOFFSETFROM:-0500
TZOFFSETTO:-0600
TZNAME:CST
DTSTART:20231105T070000
END:STANDARD
BEGIN:DAYLIGHT
TZOFFSETFROM:-0600
TZOFFSETTO:-0500
TZNAME:CDT
DTSTART:20240310T080000
END:DAYLIGHT
BEGIN:STANDARD
TZOFFSETFROM:-0500
TZOFFSETTO:-0600
TZNAME:CST
DTSTART:20241103T070000
END:STANDARD
BEGIN:DAYLIGHT
TZOFFSETFROM:-0600
TZOFFSETTO:-0500
TZNAME:CDT
DTSTART:20250309T080000
END:DAYLIGHT
BEGIN:STANDARD
TZOFFSETFROM:-0500
TZOFFSETTO:-0600
TZNAME:CST
DTSTART:20251102T070000
END:STANDARD
END:VTIMEZONE
BEGIN:VEVENT
DTSTART;TZID=America/Chicago:20240303T190000
DTEND;TZID=America/Chicago:20240303T233000
DTSTAMP:20260425T153933
CREATED:20230925T160636Z
LAST-MODIFIED:20231013T152209Z
UID:10001190-1709492400-1709508600@897theriver.com
SUMMARY:Stevie Nicks
DESCRIPTION:Stevie Nicks\n\n 
URL:https://897theriver.com/event/stevie-nicks/
LOCATION:CHI Health Center\, 455 N 10th St\, Omaha\, NE\, 68102\, United States
END:VEVENT
BEGIN:VEVENT
DTSTART;TZID=America/Chicago:20240303T193000
DTEND;TZID=America/Chicago:20240303T233000
DTSTAMP:20260425T153933
CREATED:20231212T162328Z
LAST-MODIFIED:20240105T202147Z
UID:10001262-1709494200-1709508600@897theriver.com
SUMMARY:Corey Taylor (Canceled)
DESCRIPTION:CMF2 2024 North American Tour \n\nCorey Taylor\nDes Rocs\nJigsaw Youth\n\nThe tour has been canceled.  Tickets are refundable at original point of purchase.  Here is a statement from Corey Taylor: \n“It is with a heavy heart that I announce the cancellation of my upcoming North American tour. For the past several months my mental and physical health have been breaking down\, and I reached a place that was unhealthy for my family and I. I know this decision will come as a shock to some and may be regarded as unpopular by others – but after taking a hard look at where I am and where I was going\, I need to pull myself back and be home with my family for the time being. Those of you who bought tickets and VIP packages for this upcoming run will get a full refund. \n  \nI send my love to the fans\, my band\, my family & friends\, and everyone who’s helped me get here thus far. I promise I’m doing everything I can to be as healthy as I can be. Until then\, my apologies to everyone we would have seen on the tour – and hopefully we’ll see you again down the line.” \n 
URL:https://897theriver.com/event/corey-taylor/
LOCATION:Steelhouse Omaha\, 1100 Dodge St.\, Omaha\, 68102\, United States
ATTACH;FMTTYPE=image/jpeg:https://897theriver.com/wp-content/uploads/2023/12/thumbnail_IMG_20231212_085844.jpg
END:VEVENT
END:VCALENDAR