BEGIN:VCALENDAR
VERSION:2.0
PRODID:-//89.7 The River - ECPv6.15.20//NONSGML v1.0//EN
CALSCALE:GREGORIAN
METHOD:PUBLISH
X-WR-CALNAME:89.7 The River
X-ORIGINAL-URL:https://897theriver.com
X-WR-CALDESC:Events for 89.7 The River
REFRESH-INTERVAL;VALUE=DURATION:PT1H
X-Robots-Tag:noindex
X-PUBLISHED-TTL:PT1H
BEGIN:VTIMEZONE
TZID:America/Chicago
BEGIN:DAYLIGHT
TZOFFSETFROM:-0600
TZOFFSETTO:-0500
TZNAME:CDT
DTSTART:20230312T080000
END:DAYLIGHT
BEGIN:STANDARD
TZOFFSETFROM:-0500
TZOFFSETTO:-0600
TZNAME:CST
DTSTART:20231105T070000
END:STANDARD
BEGIN:DAYLIGHT
TZOFFSETFROM:-0600
TZOFFSETTO:-0500
TZNAME:CDT
DTSTART:20240310T080000
END:DAYLIGHT
BEGIN:STANDARD
TZOFFSETFROM:-0500
TZOFFSETTO:-0600
TZNAME:CST
DTSTART:20241103T070000
END:STANDARD
BEGIN:DAYLIGHT
TZOFFSETFROM:-0600
TZOFFSETTO:-0500
TZNAME:CDT
DTSTART:20250309T080000
END:DAYLIGHT
BEGIN:STANDARD
TZOFFSETFROM:-0500
TZOFFSETTO:-0600
TZNAME:CST
DTSTART:20251102T070000
END:STANDARD
END:VTIMEZONE
BEGIN:VEVENT
DTSTART;TZID=America/Chicago:20240407T193000
DTEND;TZID=America/Chicago:20240407T233000
DTSTAMP:20260425T171833
CREATED:20231106T170631Z
LAST-MODIFIED:20231110T173302Z
UID:10001217-1712518200-1712532600@897theriver.com
SUMMARY:Randy Rainbow
DESCRIPTION:The Randy Rainbow For President Tour \n\nRandy Rainbow\n\nDoors: 6:30 pm.  Show: 7:30 pm \n 
URL:https://897theriver.com/event/randy-rainbow/
LOCATION:Steelhouse Omaha\, 1100 Dodge St.\, Omaha\, 68102\, United States
END:VEVENT
BEGIN:VEVENT
DTSTART;TZID=America/Chicago:20240407T200000
DTEND;TZID=America/Chicago:20240407T233000
DTSTAMP:20260425T171833
CREATED:20231031T163558Z
LAST-MODIFIED:20231031T163558Z
UID:10001212-1712520000-1712532600@897theriver.com
SUMMARY:John Mellencamp
DESCRIPTION:John Mellencamp
URL:https://897theriver.com/event/john-mellencamp/
LOCATION:Orpheum Theater\, 409 S. 16th St.\, Omaha\, 68102\, United States
END:VEVENT
END:VCALENDAR