BEGIN:VCALENDAR
VERSION:2.0
PRODID:-//89.7 The River - ECPv6.15.20//NONSGML v1.0//EN
CALSCALE:GREGORIAN
METHOD:PUBLISH
X-ORIGINAL-URL:https://897theriver.com
X-WR-CALDESC:Events for 89.7 The River
REFRESH-INTERVAL;VALUE=DURATION:PT1H
X-Robots-Tag:noindex
X-PUBLISHED-TTL:PT1H
BEGIN:VTIMEZONE
TZID:America/Chicago
BEGIN:DAYLIGHT
TZOFFSETFROM:-0600
TZOFFSETTO:-0500
TZNAME:CDT
DTSTART:20230312T080000
END:DAYLIGHT
BEGIN:STANDARD
TZOFFSETFROM:-0500
TZOFFSETTO:-0600
TZNAME:CST
DTSTART:20231105T070000
END:STANDARD
BEGIN:DAYLIGHT
TZOFFSETFROM:-0600
TZOFFSETTO:-0500
TZNAME:CDT
DTSTART:20240310T080000
END:DAYLIGHT
BEGIN:STANDARD
TZOFFSETFROM:-0500
TZOFFSETTO:-0600
TZNAME:CST
DTSTART:20241103T070000
END:STANDARD
BEGIN:DAYLIGHT
TZOFFSETFROM:-0600
TZOFFSETTO:-0500
TZNAME:CDT
DTSTART:20250309T080000
END:DAYLIGHT
BEGIN:STANDARD
TZOFFSETFROM:-0500
TZOFFSETTO:-0600
TZNAME:CST
DTSTART:20251102T070000
END:STANDARD
END:VTIMEZONE
BEGIN:VEVENT
DTSTART;TZID=America/Chicago:20240619T183000
DTEND;TZID=America/Chicago:20240622T233000
DTSTAMP:20260419T105738
CREATED:20240529T163034Z
LAST-MODIFIED:20240529T163034Z
UID:10001455-1718821800-1719099000@897theriver.com
SUMMARY:Cooper Alan
DESCRIPTION:Country Drive Music Fest \n\nCooper Alan\nTrace Adkins\nJustin Moore\nLucas Minor Band\nKaylyn Sahs\nMatt Stell\nKevin Keith\nReverie\nSilas Creek\nTim Zach\nTy Smith & The Minor Offenses\nTegan Nissen\nNathan Paul Trio\nJordan Schoch
URL:https://897theriver.com/event/cooper-alan/
LOCATION:Country Drive Golf Course\, 951 Co Rd 4\, Ashland\, NE\, 68003\, United States
END:VEVENT
BEGIN:VEVENT
DTSTART;TZID=America/Chicago:20240620T200000
DTEND;TZID=America/Chicago:20240620T233000
DTSTAMP:20260419T105738
CREATED:20240305T172847Z
LAST-MODIFIED:20240620T153056Z
UID:10001369-1718913600-1718926200@897theriver.com
SUMMARY:Black Pumas
DESCRIPTION:Black Pumas\nDaniel Villarreal\n\nDoors: 6 pm.  Show: 8 pm \n 
URL:https://897theriver.com/event/black-pumas/
LOCATION:Stir Cove\, Harrah’s Casino\, 1 Harrah's Blvd\, Council Bluffs\, IA\, 51501\, United States
ATTACH;FMTTYPE=image/jpeg:https://897theriver.com/wp-content/uploads/2024/03/thumbnail_Black-Pumas-2024.jpg
END:VEVENT
END:VCALENDAR