BEGIN:VCALENDAR
VERSION:2.0
PRODID:-//89.7 The River - ECPv6.15.20//NONSGML v1.0//EN
CALSCALE:GREGORIAN
METHOD:PUBLISH
X-WR-CALNAME:89.7 The River
X-ORIGINAL-URL:https://897theriver.com
X-WR-CALDESC:Events for 89.7 The River
REFRESH-INTERVAL;VALUE=DURATION:PT1H
X-Robots-Tag:noindex
X-PUBLISHED-TTL:PT1H
BEGIN:VTIMEZONE
TZID:America/Chicago
BEGIN:DAYLIGHT
TZOFFSETFROM:-0600
TZOFFSETTO:-0500
TZNAME:CDT
DTSTART:20230312T080000
END:DAYLIGHT
BEGIN:STANDARD
TZOFFSETFROM:-0500
TZOFFSETTO:-0600
TZNAME:CST
DTSTART:20231105T070000
END:STANDARD
BEGIN:DAYLIGHT
TZOFFSETFROM:-0600
TZOFFSETTO:-0500
TZNAME:CDT
DTSTART:20240310T080000
END:DAYLIGHT
BEGIN:STANDARD
TZOFFSETFROM:-0500
TZOFFSETTO:-0600
TZNAME:CST
DTSTART:20241103T070000
END:STANDARD
BEGIN:DAYLIGHT
TZOFFSETFROM:-0600
TZOFFSETTO:-0500
TZNAME:CDT
DTSTART:20250309T080000
END:DAYLIGHT
BEGIN:STANDARD
TZOFFSETFROM:-0500
TZOFFSETTO:-0600
TZNAME:CST
DTSTART:20251102T070000
END:STANDARD
END:VTIMEZONE
BEGIN:VEVENT
DTSTART;TZID=America/Chicago:20240719T170000
DTEND;TZID=America/Chicago:20240720T230000
DTSTAMP:20260423T220758
CREATED:20240419T163724Z
LAST-MODIFIED:20240719T155522Z
UID:10001417-1721408400-1721516400@897theriver.com
SUMMARY:Grrrl Camp
DESCRIPTION:Grrrl Camp: Live Music\, Camping\, Art\, Workshops\, Vendors\, More \n\nIndigo De Souza\nMannequin Pussy\nHurray For The Riff Raff\nShannon and The Clams\nAnnie Dirusso\nRosali\nGirl Ray\nVial\nKeo & Them\nMint Green\nEstrogen Projection\nPictoria Vark\nMadeline Reddel\nKrissy\n\nGates: 4 pm.  Music: 5 pm
URL:https://897theriver.com/event/grrrl-camp/
LOCATION:Falconwood Park\, 905 Allied Rd\, Bellevue\, NE\, 68123\, United States
ATTACH;FMTTYPE=image/jpeg:https://897theriver.com/wp-content/uploads/2024/04/438786129_10159465353222084_3727224593187675867_n-1.jpg
END:VEVENT
BEGIN:VEVENT
DTSTART;TZID=America/Chicago:20240719T180000
DTEND;TZID=America/Chicago:20240719T180000
DTSTAMP:20260423T220758
CREATED:20240312T160659Z
LAST-MODIFIED:20240718T220002Z
UID:10001379-1721412000-1721412000@897theriver.com
SUMMARY:Slash (moved indoors to The Astro Theater)
DESCRIPTION:S.E.R.P.E.N.T. Festival:  A Celebration of The Blues \n\nSlash\nKeb’ Mo’\nZZ Ward\nJackie Venson\n\nGates: 5 pm.  Show: 6 pm \nSlash’s S.E.R.P.E.N.T Festival on Friday July 19th scheduled for the outdoor Astro Amphitheater will be moving inside to The Astro Theater. The venue address remains the same. \nCurrent ticketholders: your tickets are still valid for the Astro Theater. Please take your tickets directly to the door; your new seat will be assigned upon entry to the venue. \nAll ticketholders will still have reserved seats at The Astro Theater. Seat locations will be comparable to your existing seats.
URL:https://897theriver.com/event/slash/
LOCATION:Astro Theater\, 8302 City Centre Dr.\, La Vista\, NE\, 68128\, United States
ATTACH;FMTTYPE=image/jpeg:https://897theriver.com/wp-content/uploads/2024/03/thumbnail_SlashsSurpentFestival_AstroTheater_1080x1080.jpg
END:VEVENT
BEGIN:VEVENT
DTSTART;TZID=America/Chicago:20240719T200000
DTEND;TZID=America/Chicago:20240719T233000
DTSTAMP:20260423T220758
CREATED:20240508T154530Z
LAST-MODIFIED:20240508T154530Z
UID:10001441-1721419200-1721431800@897theriver.com
SUMMARY:Brantley Gilbert
DESCRIPTION:Brantley Gilbert
URL:https://897theriver.com/event/brantley-gilbert/
LOCATION:Stir Cove\, Harrah’s Casino\, 1 Harrah's Blvd\, Council Bluffs\, IA\, 51501\, United States
END:VEVENT
END:VCALENDAR