BEGIN:VCALENDAR
VERSION:2.0
PRODID:-//89.7 The River - ECPv6.15.20//NONSGML v1.0//EN
CALSCALE:GREGORIAN
METHOD:PUBLISH
X-ORIGINAL-URL:https://897theriver.com
X-WR-CALDESC:Events for 89.7 The River
REFRESH-INTERVAL;VALUE=DURATION:PT1H
X-Robots-Tag:noindex
X-PUBLISHED-TTL:PT1H
BEGIN:VTIMEZONE
TZID:America/Chicago
BEGIN:DAYLIGHT
TZOFFSETFROM:-0600
TZOFFSETTO:-0500
TZNAME:CDT
DTSTART:20230312T080000
END:DAYLIGHT
BEGIN:STANDARD
TZOFFSETFROM:-0500
TZOFFSETTO:-0600
TZNAME:CST
DTSTART:20231105T070000
END:STANDARD
BEGIN:DAYLIGHT
TZOFFSETFROM:-0600
TZOFFSETTO:-0500
TZNAME:CDT
DTSTART:20240310T080000
END:DAYLIGHT
BEGIN:STANDARD
TZOFFSETFROM:-0500
TZOFFSETTO:-0600
TZNAME:CST
DTSTART:20241103T070000
END:STANDARD
BEGIN:DAYLIGHT
TZOFFSETFROM:-0600
TZOFFSETTO:-0500
TZNAME:CDT
DTSTART:20250309T080000
END:DAYLIGHT
BEGIN:STANDARD
TZOFFSETFROM:-0500
TZOFFSETTO:-0600
TZNAME:CST
DTSTART:20251102T070000
END:STANDARD
END:VTIMEZONE
BEGIN:VEVENT
DTSTART;TZID=America/Chicago:20240721T193000
DTEND;TZID=America/Chicago:20240721T233000
DTSTAMP:20260424T000801
CREATED:20231109T181145Z
LAST-MODIFIED:20231117T162609Z
UID:10001224-1721590200-1721604600@897theriver.com
SUMMARY:AJR
DESCRIPTION:The Maybe Man Tour \n\nAJR\n\n 
URL:https://897theriver.com/event/ajr/
LOCATION:CHI Health Center\, 455 N 10th St\, Omaha\, NE\, 68102\, United States
END:VEVENT
BEGIN:VEVENT
DTSTART;TZID=America/Chicago:20240721T193000
DTEND;TZID=America/Chicago:20240721T233000
DTSTAMP:20260424T000801
CREATED:20240201T232456Z
LAST-MODIFIED:20240201T232456Z
UID:10001326-1721590200-1721604600@897theriver.com
SUMMARY:Bowling For Soup
DESCRIPTION:Sick 50 Tour \n\nBowling For Soup\nKeep Flying\nEternal Boy\n\nDoors: 6:30 pm.  Show: 7 pm
URL:https://897theriver.com/event/bowling-for-soup/
LOCATION:Slowdown\, 729 N 14th St\, Omaha\, NE\, 68102\, United States
END:VEVENT
BEGIN:VEVENT
DTSTART;TZID=America/Chicago:20240721T193000
DTEND;TZID=America/Chicago:20240721T233000
DTSTAMP:20260424T000801
CREATED:20240221T163724Z
LAST-MODIFIED:20240223T173951Z
UID:10001348-1721590200-1721604600@897theriver.com
SUMMARY:Straight No Chaser
DESCRIPTION:Summer: The 90’s \n\nStraight No Chaser\nLisa Loeb\n\nDoors: 6:30 pm.  Show: 7:30 pm \n 
URL:https://897theriver.com/event/straight-no-chaser/
LOCATION:The Astro Amphitheater\, 8302 City Centre Dr.\, La Vista\, NE\, 68128\, United States
END:VEVENT
BEGIN:VEVENT
DTSTART;TZID=America/Chicago:20240721T193000
DTEND;TZID=America/Chicago:20240721T233000
DTSTAMP:20260424T000801
CREATED:20240416T161640Z
LAST-MODIFIED:20240419T154600Z
UID:10001414-1721590200-1721604600@897theriver.com
SUMMARY:Chevelle
DESCRIPTION:Chevelle\nTigercub\n\nDoors: 6:30 pm.  Show: 7:30 pm \n 
URL:https://897theriver.com/event/chevelle/
LOCATION:Steelhouse Omaha\, 1100 Dodge St.\, Omaha\, 68102\, United States
END:VEVENT
END:VCALENDAR