BEGIN:VCALENDAR
VERSION:2.0
PRODID:-//89.7 The River - ECPv6.15.20//NONSGML v1.0//EN
CALSCALE:GREGORIAN
METHOD:PUBLISH
X-ORIGINAL-URL:https://897theriver.com
X-WR-CALDESC:Events for 89.7 The River
REFRESH-INTERVAL;VALUE=DURATION:PT1H
X-Robots-Tag:noindex
X-PUBLISHED-TTL:PT1H
BEGIN:VTIMEZONE
TZID:America/Chicago
BEGIN:DAYLIGHT
TZOFFSETFROM:-0600
TZOFFSETTO:-0500
TZNAME:CDT
DTSTART:20230312T080000
END:DAYLIGHT
BEGIN:STANDARD
TZOFFSETFROM:-0500
TZOFFSETTO:-0600
TZNAME:CST
DTSTART:20231105T070000
END:STANDARD
BEGIN:DAYLIGHT
TZOFFSETFROM:-0600
TZOFFSETTO:-0500
TZNAME:CDT
DTSTART:20240310T080000
END:DAYLIGHT
BEGIN:STANDARD
TZOFFSETFROM:-0500
TZOFFSETTO:-0600
TZNAME:CST
DTSTART:20241103T070000
END:STANDARD
BEGIN:DAYLIGHT
TZOFFSETFROM:-0600
TZOFFSETTO:-0500
TZNAME:CDT
DTSTART:20250309T080000
END:DAYLIGHT
BEGIN:STANDARD
TZOFFSETFROM:-0500
TZOFFSETTO:-0600
TZNAME:CST
DTSTART:20251102T070000
END:STANDARD
END:VTIMEZONE
BEGIN:VEVENT
DTSTART;TZID=America/Chicago:20240724T173000
DTEND;TZID=America/Chicago:20240724T230000
DTSTAMP:20260423T203713
CREATED:20240319T145225Z
LAST-MODIFIED:20240724T153727Z
UID:10001381-1721842200-1721862000@897theriver.com
SUMMARY:A Day To Remember
DESCRIPTION:The Least Anticipated Album Tour: \n\nA Day To Remember\nThe Story So Far\nFour Year Strong\nScowl\n\nDoors: 5 pm.  Show: 5:45 pm
URL:https://897theriver.com/event/a-day-to-remember/
LOCATION:The Astro Amphitheater\, 8302 City Centre Dr.\, La Vista\, NE\, 68128\, United States
ATTACH;FMTTYPE=image/jpeg:https://897theriver.com/wp-content/uploads/2024/03/A-Day-To-Remember-The-Astro-Amphitheater.jpg
END:VEVENT
BEGIN:VEVENT
DTSTART;TZID=America/Chicago:20240724T193000
DTEND;TZID=America/Chicago:20240724T233000
DTSTAMP:20260423T203713
CREATED:20231023T152546Z
LAST-MODIFIED:20231027T163808Z
UID:10001207-1721849400-1721863800@897theriver.com
SUMMARY:Jason Mraz & The Superband
DESCRIPTION:The Mystical Magical Rhythmical Radical Ride \n\nJason Mraz & The Superband\n\n 
URL:https://897theriver.com/event/jason-mraz-the-superband/
LOCATION:Pinewood Bowl Amphitheater\, 3201 S Coddington Ave\, Lincoln\, NE\, 68522\, United States
ATTACH;FMTTYPE=image/jpeg:https://897theriver.com/wp-content/uploads/2023/10/thumbnail_Jason-Mraz-2024-Square.jpg
END:VEVENT
BEGIN:VEVENT
DTSTART;TZID=America/Chicago:20240724T200000
DTEND;TZID=America/Chicago:20240724T233000
DTSTAMP:20260423T203713
CREATED:20240312T160229Z
LAST-MODIFIED:20240723T165219Z
UID:10001378-1721851200-1721863800@897theriver.com
SUMMARY:Collective Soul (Postponed)
DESCRIPTION:30th Anniversary \n\nCollective Soul\n\nDoors: 7 pm.  Show: 8 pm \nDue to a medical reason within the Collective Soul touring party\, the 7/24 Omaha\, NE show has been postponed. Please hold on to your tickets and stay tuned for the new rescheduled date. \n 
URL:https://897theriver.com/event/collective-soul/
LOCATION:Steelhouse Omaha\, 1100 Dodge St.\, Omaha\, 68102\, United States
ATTACH;FMTTYPE=image/jpeg:https://897theriver.com/wp-content/uploads/2024/03/thumbnail_Collective-Soul-Steelhouse-2024.jpg
END:VEVENT
END:VCALENDAR