BEGIN:VCALENDAR
VERSION:2.0
PRODID:-//89.7 The River - ECPv6.15.20//NONSGML v1.0//EN
CALSCALE:GREGORIAN
METHOD:PUBLISH
X-WR-CALNAME:89.7 The River
X-ORIGINAL-URL:https://897theriver.com
X-WR-CALDESC:Events for 89.7 The River
REFRESH-INTERVAL;VALUE=DURATION:PT1H
X-Robots-Tag:noindex
X-PUBLISHED-TTL:PT1H
BEGIN:VTIMEZONE
TZID:America/Chicago
BEGIN:DAYLIGHT
TZOFFSETFROM:-0600
TZOFFSETTO:-0500
TZNAME:CDT
DTSTART:20230312T080000
END:DAYLIGHT
BEGIN:STANDARD
TZOFFSETFROM:-0500
TZOFFSETTO:-0600
TZNAME:CST
DTSTART:20231105T070000
END:STANDARD
BEGIN:DAYLIGHT
TZOFFSETFROM:-0600
TZOFFSETTO:-0500
TZNAME:CDT
DTSTART:20240310T080000
END:DAYLIGHT
BEGIN:STANDARD
TZOFFSETFROM:-0500
TZOFFSETTO:-0600
TZNAME:CST
DTSTART:20241103T070000
END:STANDARD
BEGIN:DAYLIGHT
TZOFFSETFROM:-0600
TZOFFSETTO:-0500
TZNAME:CDT
DTSTART:20250309T080000
END:DAYLIGHT
BEGIN:STANDARD
TZOFFSETFROM:-0500
TZOFFSETTO:-0600
TZNAME:CST
DTSTART:20251102T070000
END:STANDARD
END:VTIMEZONE
BEGIN:VEVENT
DTSTART;TZID=America/Chicago:20240802T080000
DTEND;TZID=America/Chicago:20240804T170000
DTSTAMP:20260423T185943
CREATED:20240116T173436Z
LAST-MODIFIED:20240116T173436Z
UID:10001299-1722585600-1722790800@897theriver.com
SUMMARY:Hinterland
DESCRIPTION:Hinterland \n\nHozier\nVampire Weekend\nNoah Kahan\nLizzy McAlpine\nMt. Joy\nOrville Peck\nHippo Campus\nCharley Crocket\n…and many more\n\nGate and set times TBA
URL:https://897theriver.com/event/hinterland/
LOCATION:Avenue of the Saints Amphitheater and Event Center\, 3357 St Charles Rd\, St Charles\, IA\, 50240\, United States
END:VEVENT
BEGIN:VEVENT
DTSTART;TZID=America/Chicago:20240802T180000
DTEND;TZID=America/Chicago:20240802T233000
DTSTAMP:20260423T185943
CREATED:20240401T154507Z
LAST-MODIFIED:20240802T154004Z
UID:10001395-1722621600-1722641400@897theriver.com
SUMMARY:idobi Summer School (Canceled)
DESCRIPTION:idobi Summer School \n\nMagnolia Park\nStand Atlantic\nThe Home Team\nScene Queen\nHoney Revenge\nLetdown\n\nNotice:  This show has been canceled.  Tickets refundable at original point of purchase. \n  \n 
URL:https://897theriver.com/event/idobi-summer-school/
LOCATION:The Admiral Theater\, 2234 S 13th St\, Omaha\, NE\, 68108\, United States
ATTACH;FMTTYPE=image/jpeg:https://897theriver.com/wp-content/uploads/2024/04/thumbnail_Summer-School-TheAdmiral.jpg
END:VEVENT
BEGIN:VEVENT
DTSTART;TZID=America/Chicago:20240802T183000
DTEND;TZID=America/Chicago:20240802T233000
DTSTAMP:20260423T185943
CREATED:20240311T150912Z
LAST-MODIFIED:20240315T152924Z
UID:10001371-1722623400-1722641400@897theriver.com
SUMMARY:Gin Blossoms & Toad The Wet Sprocket
DESCRIPTION:Gin Blossoms\nToad The Wet Sprocket\nVertical Horizon\n\nGates: 5:30 pm.  Show: 6:30 pm \n 
URL:https://897theriver.com/event/gin-blossoms-toad-the-wet-sprocket/
LOCATION:The Astro Amphitheater\, 8302 City Centre Dr.\, La Vista\, NE\, 68128\, United States
ATTACH;FMTTYPE=image/jpeg:https://897theriver.com/wp-content/uploads/2024/03/thumbnail_Gin-Blossoms-at-The-Astro-Amphitheater-2024.jpg
END:VEVENT
BEGIN:VEVENT
DTSTART;TZID=America/Chicago:20240802T200000
DTEND;TZID=America/Chicago:20240802T233000
DTSTAMP:20260423T185943
CREATED:20240501T161229Z
LAST-MODIFIED:20240503T151511Z
UID:10001433-1722628800-1722641400@897theriver.com
SUMMARY:Elle King
DESCRIPTION:Elle King\n\nDoors: 7 pm.  Show: 8 pm \n 
URL:https://897theriver.com/event/elle-king/
LOCATION:Steelhouse Omaha\, 1100 Dodge St.\, Omaha\, 68102\, United States
END:VEVENT
END:VCALENDAR