BEGIN:VCALENDAR
VERSION:2.0
PRODID:-//89.7 The River - ECPv6.15.20//NONSGML v1.0//EN
CALSCALE:GREGORIAN
METHOD:PUBLISH
X-ORIGINAL-URL:https://897theriver.com
X-WR-CALDESC:Events for 89.7 The River
REFRESH-INTERVAL;VALUE=DURATION:PT1H
X-Robots-Tag:noindex
X-PUBLISHED-TTL:PT1H
BEGIN:VTIMEZONE
TZID:America/Chicago
BEGIN:DAYLIGHT
TZOFFSETFROM:-0600
TZOFFSETTO:-0500
TZNAME:CDT
DTSTART:20240310T080000
END:DAYLIGHT
BEGIN:STANDARD
TZOFFSETFROM:-0500
TZOFFSETTO:-0600
TZNAME:CST
DTSTART:20241103T070000
END:STANDARD
BEGIN:DAYLIGHT
TZOFFSETFROM:-0600
TZOFFSETTO:-0500
TZNAME:CDT
DTSTART:20250309T080000
END:DAYLIGHT
BEGIN:STANDARD
TZOFFSETFROM:-0500
TZOFFSETTO:-0600
TZNAME:CST
DTSTART:20251102T070000
END:STANDARD
BEGIN:DAYLIGHT
TZOFFSETFROM:-0600
TZOFFSETTO:-0500
TZNAME:CDT
DTSTART:20260308T080000
END:DAYLIGHT
BEGIN:STANDARD
TZOFFSETFROM:-0500
TZOFFSETTO:-0600
TZNAME:CST
DTSTART:20261101T070000
END:STANDARD
END:VTIMEZONE
BEGIN:VEVENT
DTSTART;TZID=America/Chicago:20251022T193000
DTEND;TZID=America/Chicago:20251022T233000
DTSTAMP:20260424T195032
CREATED:20250422T150923Z
LAST-MODIFIED:20250425T155138Z
UID:10001745-1761161400-1761175800@897theriver.com
SUMMARY:Elvis Costello & The Imposters with Charlie Sexton
DESCRIPTION:Radio Soul!  The Early Songs of Elvis Costello \n\nElvis Costello & The Imposters\nCharlie Sexton\n\nDoors: 6:30 pm.  Show: 7:30 pm \n  \n 
URL:https://897theriver.com/event/elvis-costello-the-imposters-with-charlie-sexton/
LOCATION:Steelhouse Omaha\, 1100 Dodge St.\, Omaha\, 68102\, United States
ATTACH;FMTTYPE=image/jpeg:https://897theriver.com/wp-content/uploads/2025/04/thumbnail_Elvis-Costello-at-Steelhouse-Omaha.jpg
END:VEVENT
BEGIN:VEVENT
DTSTART;TZID=America/Chicago:20251022T200000
DTEND;TZID=America/Chicago:20251022T233000
DTSTAMP:20260424T195032
CREATED:20250527T184606Z
LAST-MODIFIED:20250527T184606Z
UID:10001776-1761163200-1761175800@897theriver.com
SUMMARY:Jack & Jack
DESCRIPTION:Jack & Jack
URL:https://897theriver.com/event/jack-jack/
LOCATION:Slowdown\, 729 N 14th St\, Omaha\, NE\, 68102\, United States
END:VEVENT
BEGIN:VEVENT
DTSTART;TZID=America/Chicago:20251022T200000
DTEND;TZID=America/Chicago:20251022T233000
DTSTAMP:20260424T195032
CREATED:20251020T154746Z
LAST-MODIFIED:20251020T154746Z
UID:10001880-1761163200-1761175800@897theriver.com
SUMMARY:Pixel Grip
DESCRIPTION:Pixel Grip\nPsymon Spine\n\nDoors: 7 pm.  Show: 8 pm
URL:https://897theriver.com/event/pixel-grip/
LOCATION:Reverb Lounge\, 6121 Military Ave\, Omaha\, NE\, 68104\, United States
END:VEVENT
END:VCALENDAR