BEGIN:VCALENDAR
VERSION:2.0
PRODID:-//89.7 The River - ECPv6.15.20//NONSGML v1.0//EN
CALSCALE:GREGORIAN
METHOD:PUBLISH
X-ORIGINAL-URL:https://897theriver.com
X-WR-CALDESC:Events for 89.7 The River
REFRESH-INTERVAL;VALUE=DURATION:PT1H
X-Robots-Tag:noindex
X-PUBLISHED-TTL:PT1H
BEGIN:VTIMEZONE
TZID:America/Chicago
BEGIN:DAYLIGHT
TZOFFSETFROM:-0600
TZOFFSETTO:-0500
TZNAME:CDT
DTSTART:20240310T080000
END:DAYLIGHT
BEGIN:STANDARD
TZOFFSETFROM:-0500
TZOFFSETTO:-0600
TZNAME:CST
DTSTART:20241103T070000
END:STANDARD
BEGIN:DAYLIGHT
TZOFFSETFROM:-0600
TZOFFSETTO:-0500
TZNAME:CDT
DTSTART:20250309T080000
END:DAYLIGHT
BEGIN:STANDARD
TZOFFSETFROM:-0500
TZOFFSETTO:-0600
TZNAME:CST
DTSTART:20251102T070000
END:STANDARD
BEGIN:DAYLIGHT
TZOFFSETFROM:-0600
TZOFFSETTO:-0500
TZNAME:CDT
DTSTART:20260308T080000
END:DAYLIGHT
BEGIN:STANDARD
TZOFFSETFROM:-0500
TZOFFSETTO:-0600
TZNAME:CST
DTSTART:20261101T070000
END:STANDARD
END:VTIMEZONE
BEGIN:VEVENT
DTSTART;TZID=America/Chicago:20251111T190000
DTEND;TZID=America/Chicago:20251111T233000
DTSTAMP:20260420T081641
CREATED:20250604T160040Z
LAST-MODIFIED:20250604T160040Z
UID:10001787-1762887600-1762903800@897theriver.com
SUMMARY:Zakk Sabbath
DESCRIPTION:Zakk Sabbath\nBonfire\nDark Chapel\n\nDoors: 6 pm.  Show: 7 pm
URL:https://897theriver.com/event/zakk-sabbath-2/
LOCATION:The Bourbon Theatre\, 1415 O St\, Lincoln\, NE\, 68508\, United States
END:VEVENT
BEGIN:VEVENT
DTSTART;TZID=America/Chicago:20251111T200000
DTEND;TZID=America/Chicago:20251111T233000
DTSTAMP:20260420T081641
CREATED:20250624T153055Z
LAST-MODIFIED:20250624T153055Z
UID:10001803-1762891200-1762903800@897theriver.com
SUMMARY:The Frights
DESCRIPTION:The Frights\nRemo Drive\n\nDoors: 7 pm.  Show: 8 pm
URL:https://897theriver.com/event/the-frights-2/
LOCATION:NE
END:VEVENT
END:VCALENDAR