BEGIN:VCALENDAR
VERSION:2.0
PRODID:-//89.7 The River - ECPv6.15.20//NONSGML v1.0//EN
CALSCALE:GREGORIAN
METHOD:PUBLISH
X-ORIGINAL-URL:https://897theriver.com
X-WR-CALDESC:Events for 89.7 The River
REFRESH-INTERVAL;VALUE=DURATION:PT1H
X-Robots-Tag:noindex
X-PUBLISHED-TTL:PT1H
BEGIN:VTIMEZONE
TZID:America/Chicago
BEGIN:DAYLIGHT
TZOFFSETFROM:-0600
TZOFFSETTO:-0500
TZNAME:CDT
DTSTART:20240310T080000
END:DAYLIGHT
BEGIN:STANDARD
TZOFFSETFROM:-0500
TZOFFSETTO:-0600
TZNAME:CST
DTSTART:20241103T070000
END:STANDARD
BEGIN:DAYLIGHT
TZOFFSETFROM:-0600
TZOFFSETTO:-0500
TZNAME:CDT
DTSTART:20250309T080000
END:DAYLIGHT
BEGIN:STANDARD
TZOFFSETFROM:-0500
TZOFFSETTO:-0600
TZNAME:CST
DTSTART:20251102T070000
END:STANDARD
BEGIN:DAYLIGHT
TZOFFSETFROM:-0600
TZOFFSETTO:-0500
TZNAME:CDT
DTSTART:20260308T080000
END:DAYLIGHT
BEGIN:STANDARD
TZOFFSETFROM:-0500
TZOFFSETTO:-0600
TZNAME:CST
DTSTART:20261101T070000
END:STANDARD
END:VTIMEZONE
BEGIN:VEVENT
DTSTART;TZID=America/Chicago:20251209T200000
DTEND;TZID=America/Chicago:20251209T233000
DTSTAMP:20260422T102100
CREATED:20250922T223352Z
LAST-MODIFIED:20251202T180914Z
UID:10001870-1765310400-1765323000@897theriver.com
SUMMARY:Soul Coughing
DESCRIPTION:Soul Coughing Still Loves You \n\nSoul Coughing\n\nDoors: 7 pm.  Show: 8 pm \nNOTICE:  This show has been moved from the Admiral to The Waiting Room.  All previously purchased tickets will be honored at The Waiting Room
URL:https://897theriver.com/event/soul-coughing/
LOCATION:The Waiting Room\, 6212 Maple St\, Omaha\, NE\, 68104\, United States
ATTACH;FMTTYPE=image/jpeg:https://897theriver.com/wp-content/uploads/2025/09/thumbnail_SoulCoughing_WaitingRoom_1080x1080.jpg
END:VEVENT
END:VCALENDAR