BEGIN:VCALENDAR
VERSION:2.0
PRODID:-//89.7 The River - ECPv6.15.20//NONSGML v1.0//EN
CALSCALE:GREGORIAN
METHOD:PUBLISH
X-WR-CALNAME:89.7 The River
X-ORIGINAL-URL:https://897theriver.com
X-WR-CALDESC:Events for 89.7 The River
REFRESH-INTERVAL;VALUE=DURATION:PT1H
X-Robots-Tag:noindex
X-PUBLISHED-TTL:PT1H
BEGIN:VTIMEZONE
TZID:America/Chicago
BEGIN:DAYLIGHT
TZOFFSETFROM:-0600
TZOFFSETTO:-0500
TZNAME:CDT
DTSTART:20240310T080000
END:DAYLIGHT
BEGIN:STANDARD
TZOFFSETFROM:-0500
TZOFFSETTO:-0600
TZNAME:CST
DTSTART:20241103T070000
END:STANDARD
BEGIN:DAYLIGHT
TZOFFSETFROM:-0600
TZOFFSETTO:-0500
TZNAME:CDT
DTSTART:20250309T080000
END:DAYLIGHT
BEGIN:STANDARD
TZOFFSETFROM:-0500
TZOFFSETTO:-0600
TZNAME:CST
DTSTART:20251102T070000
END:STANDARD
BEGIN:DAYLIGHT
TZOFFSETFROM:-0600
TZOFFSETTO:-0500
TZNAME:CDT
DTSTART:20260308T080000
END:DAYLIGHT
BEGIN:STANDARD
TZOFFSETFROM:-0500
TZOFFSETTO:-0600
TZNAME:CST
DTSTART:20261101T070000
END:STANDARD
END:VTIMEZONE
BEGIN:VEVENT
DTSTART;TZID=America/Chicago:20251219T200000
DTEND;TZID=America/Chicago:20251219T233000
DTSTAMP:20260420T205059
CREATED:20251104T202803Z
LAST-MODIFIED:20251104T202803Z
UID:10001893-1766174400-1766187000@897theriver.com
SUMMARY:Evandale
DESCRIPTION:Ugly Sweater Party \n\nEvandale\nEntundra\nAnyone Else\n\nDoors: 7 pm.  Show: 8 pm
URL:https://897theriver.com/event/evandale-4/
LOCATION:Reverb Lounge\, 6121 Military Ave\, Omaha\, NE\, 68104\, United States
ATTACH;FMTTYPE=image/jpeg:https://897theriver.com/wp-content/uploads/2025/11/577170398_1403571575106920_6440142562637388768_n.jpg
END:VEVENT
END:VCALENDAR