BEGIN:VCALENDAR
VERSION:2.0
PRODID:-//89.7 The River - ECPv6.15.20//NONSGML v1.0//EN
CALSCALE:GREGORIAN
METHOD:PUBLISH
X-ORIGINAL-URL:https://897theriver.com
X-WR-CALDESC:Events for 89.7 The River
REFRESH-INTERVAL;VALUE=DURATION:PT1H
X-Robots-Tag:noindex
X-PUBLISHED-TTL:PT1H
BEGIN:VTIMEZONE
TZID:America/Chicago
BEGIN:DAYLIGHT
TZOFFSETFROM:-0600
TZOFFSETTO:-0500
TZNAME:CDT
DTSTART:20240310T080000
END:DAYLIGHT
BEGIN:STANDARD
TZOFFSETFROM:-0500
TZOFFSETTO:-0600
TZNAME:CST
DTSTART:20241103T070000
END:STANDARD
BEGIN:DAYLIGHT
TZOFFSETFROM:-0600
TZOFFSETTO:-0500
TZNAME:CDT
DTSTART:20250309T080000
END:DAYLIGHT
BEGIN:STANDARD
TZOFFSETFROM:-0500
TZOFFSETTO:-0600
TZNAME:CST
DTSTART:20251102T070000
END:STANDARD
BEGIN:DAYLIGHT
TZOFFSETFROM:-0600
TZOFFSETTO:-0500
TZNAME:CDT
DTSTART:20260308T080000
END:DAYLIGHT
BEGIN:STANDARD
TZOFFSETFROM:-0500
TZOFFSETTO:-0600
TZNAME:CST
DTSTART:20261101T070000
END:STANDARD
END:VTIMEZONE
BEGIN:VEVENT
DTSTART;TZID=America/Chicago:20251220T150000
DTEND;TZID=America/Chicago:20251220T180000
DTSTAMP:20260420T190821
CREATED:20250723T152202Z
LAST-MODIFIED:20250723T152202Z
UID:10001826-1766242800-1766253600@897theriver.com
SUMMARY:Mannheim Steamroller Christmas by Chip Davis
DESCRIPTION:Mannheim Steamroller Christmas by Chip Davis
URL:https://897theriver.com/event/mannheim-steamroller-christmas-by-chip-davis/
LOCATION:Orpheum Theater\, 409 S. 16th St.\, Omaha\, 68102\, United States
END:VEVENT
BEGIN:VEVENT
DTSTART;TZID=America/Chicago:20251220T190000
DTEND;TZID=America/Chicago:20251220T233000
DTSTAMP:20260420T190821
CREATED:20250922T183859Z
LAST-MODIFIED:20250926T152250Z
UID:10001869-1766257200-1766273400@897theriver.com
SUMMARY:Christmas in Taylorville
DESCRIPTION:Christmas in Taylorville \n\nTaylorville – A Tribute to Taylor Swift\n\nDoors: 6 pm.  Show: 7 pm \n 
URL:https://897theriver.com/event/christmas-in-taylorville/
LOCATION:Steelhouse Omaha\, 1100 Dodge St.\, Omaha\, 68102\, United States
END:VEVENT
BEGIN:VEVENT
DTSTART;TZID=America/Chicago:20251220T200000
DTEND;TZID=America/Chicago:20251220T233000
DTSTAMP:20260420T190821
CREATED:20250723T152325Z
LAST-MODIFIED:20250723T152325Z
UID:10001827-1766260800-1766273400@897theriver.com
SUMMARY:Mannheim Steamroller Christmas by Chip Davis
DESCRIPTION:Mannheim Steamroller Christmas by Chip Davis
URL:https://897theriver.com/event/mannheim-steamroller-christmas-by-chip-davis-2/
LOCATION:Orpheum Theater\, 409 S. 16th St.\, Omaha\, 68102\, United States
END:VEVENT
BEGIN:VEVENT
DTSTART;TZID=America/Chicago:20251220T200000
DTEND;TZID=America/Chicago:20251220T233000
DTSTAMP:20260420T190821
CREATED:20251024T194537Z
LAST-MODIFIED:20251024T194537Z
UID:10001882-1766260800-1766273400@897theriver.com
SUMMARY:Blue Moon Ghetto
DESCRIPTION:Blue Moon Ghetto\nBen Benta Quintet\n\nDoors: 7 pm.  Show: 8 pm
URL:https://897theriver.com/event/blue-moon-ghetto-4/
LOCATION:Reverb Lounge\, 6121 Military Ave\, Omaha\, NE\, 68104\, United States
END:VEVENT
END:VCALENDAR