BEGIN:VCALENDAR
VERSION:2.0
PRODID:-//89.7 The River - ECPv6.15.20//NONSGML v1.0//EN
CALSCALE:GREGORIAN
METHOD:PUBLISH
X-WR-CALNAME:89.7 The River
X-ORIGINAL-URL:https://897theriver.com
X-WR-CALDESC:Events for 89.7 The River
REFRESH-INTERVAL;VALUE=DURATION:PT1H
X-Robots-Tag:noindex
X-PUBLISHED-TTL:PT1H
BEGIN:VTIMEZONE
TZID:America/Chicago
BEGIN:DAYLIGHT
TZOFFSETFROM:-0600
TZOFFSETTO:-0500
TZNAME:CDT
DTSTART:20250309T080000
END:DAYLIGHT
BEGIN:STANDARD
TZOFFSETFROM:-0500
TZOFFSETTO:-0600
TZNAME:CST
DTSTART:20251102T070000
END:STANDARD
BEGIN:DAYLIGHT
TZOFFSETFROM:-0600
TZOFFSETTO:-0500
TZNAME:CDT
DTSTART:20260308T080000
END:DAYLIGHT
BEGIN:STANDARD
TZOFFSETFROM:-0500
TZOFFSETTO:-0600
TZNAME:CST
DTSTART:20261101T070000
END:STANDARD
BEGIN:DAYLIGHT
TZOFFSETFROM:-0600
TZOFFSETTO:-0500
TZNAME:CDT
DTSTART:20270314T080000
END:DAYLIGHT
BEGIN:STANDARD
TZOFFSETFROM:-0500
TZOFFSETTO:-0600
TZNAME:CST
DTSTART:20271107T070000
END:STANDARD
END:VTIMEZONE
BEGIN:VEVENT
DTSTART;TZID=America/Chicago:20260124T190000
DTEND;TZID=America/Chicago:20260124T233000
DTSTAMP:20260422T101902
CREATED:20250813T155921Z
LAST-MODIFIED:20250815T171237Z
UID:10001841-1769281200-1769297400@897theriver.com
SUMMARY:Rascall Flatts
DESCRIPTION:Life Is A Highway Tour \n\nRascall Flatts\nLauren Alaina\nChris Lane\n\n 
URL:https://897theriver.com/event/rascall-flatts/
LOCATION:CHI Health Center\, 455 N 10th St\, Omaha\, NE\, 68102\, United States
END:VEVENT
BEGIN:VEVENT
DTSTART;TZID=America/Chicago:20260124T193000
DTEND;TZID=America/Chicago:20260124T233000
DTSTAMP:20260422T101902
CREATED:20260106T165740Z
LAST-MODIFIED:20260106T165740Z
UID:10001935-1769283000-1769297400@897theriver.com
SUMMARY:The Toasters
DESCRIPTION:The Toasters\nThe Bishops\nThe Wingtips\n\nDoors: 7 pm.  Show: 7:30 pm
URL:https://897theriver.com/event/the-toasters/
LOCATION:Reverb Lounge\, 6121 Military Ave\, Omaha\, NE\, 68104\, United States
END:VEVENT
END:VCALENDAR