BEGIN:VCALENDAR
VERSION:2.0
PRODID:-//89.7 The River - ECPv6.15.20//NONSGML v1.0//EN
CALSCALE:GREGORIAN
METHOD:PUBLISH
X-WR-CALNAME:89.7 The River
X-ORIGINAL-URL:https://897theriver.com
X-WR-CALDESC:Events for 89.7 The River
REFRESH-INTERVAL;VALUE=DURATION:PT1H
X-Robots-Tag:noindex
X-PUBLISHED-TTL:PT1H
BEGIN:VTIMEZONE
TZID:America/Chicago
BEGIN:DAYLIGHT
TZOFFSETFROM:-0600
TZOFFSETTO:-0500
TZNAME:CDT
DTSTART:20250309T080000
END:DAYLIGHT
BEGIN:STANDARD
TZOFFSETFROM:-0500
TZOFFSETTO:-0600
TZNAME:CST
DTSTART:20251102T070000
END:STANDARD
BEGIN:DAYLIGHT
TZOFFSETFROM:-0600
TZOFFSETTO:-0500
TZNAME:CDT
DTSTART:20260308T080000
END:DAYLIGHT
BEGIN:STANDARD
TZOFFSETFROM:-0500
TZOFFSETTO:-0600
TZNAME:CST
DTSTART:20261101T070000
END:STANDARD
BEGIN:DAYLIGHT
TZOFFSETFROM:-0600
TZOFFSETTO:-0500
TZNAME:CDT
DTSTART:20270314T080000
END:DAYLIGHT
BEGIN:STANDARD
TZOFFSETFROM:-0500
TZOFFSETTO:-0600
TZNAME:CST
DTSTART:20271107T070000
END:STANDARD
END:VTIMEZONE
BEGIN:VEVENT
DTSTART;TZID=America/Chicago:20260423T183000
DTEND;TZID=America/Chicago:20260423T233000
DTSTAMP:20260421T110408
CREATED:20260206T191948Z
LAST-MODIFIED:20260206T192055Z
UID:10001982-1776969000-1776987000@897theriver.com
SUMMARY:Zero 9:36
DESCRIPTION:They Were Always Here USA Tour 2026 \n\nZero 9:36\nDownswing\nThe Tale Untold\n\n 
URL:https://897theriver.com/event/zero-936-2/
LOCATION:The Waiting Room\, 6212 Maple St\, Omaha\, NE\, 68104\, United States
ATTACH;FMTTYPE=image/jpeg:https://897theriver.com/wp-content/uploads/2026/02/627635075_1484435903687153_1054163414029099891_n.jpg
END:VEVENT
BEGIN:VEVENT
DTSTART;TZID=America/Chicago:20260423T190000
DTEND;TZID=America/Chicago:20260423T233000
DTSTAMP:20260421T110408
CREATED:20260408T162641Z
LAST-MODIFIED:20260408T162641Z
UID:10002060-1776970800-1776987000@897theriver.com
SUMMARY:Ethel Cain
DESCRIPTION:The Willoughby Tucker Forever Tour \n\nEthel Cain\n9Million\n\nDoors: 6 pm.  Show: 7 pm
URL:https://897theriver.com/event/ethel-cain/
LOCATION:The Astro Amphitheater\, 8302 City Centre Dr.\, La Vista\, NE\, 68128\, United States
END:VEVENT
END:VCALENDAR