BEGIN:VCALENDAR
VERSION:2.0
PRODID:-//89.7 The River - ECPv6.15.20//NONSGML v1.0//EN
CALSCALE:GREGORIAN
METHOD:PUBLISH
X-WR-CALNAME:89.7 The River
X-ORIGINAL-URL:https://897theriver.com
X-WR-CALDESC:Events for 89.7 The River
REFRESH-INTERVAL;VALUE=DURATION:PT1H
X-Robots-Tag:noindex
X-PUBLISHED-TTL:PT1H
BEGIN:VTIMEZONE
TZID:America/Chicago
BEGIN:DAYLIGHT
TZOFFSETFROM:-0600
TZOFFSETTO:-0500
TZNAME:CDT
DTSTART:20250309T080000
END:DAYLIGHT
BEGIN:STANDARD
TZOFFSETFROM:-0500
TZOFFSETTO:-0600
TZNAME:CST
DTSTART:20251102T070000
END:STANDARD
BEGIN:DAYLIGHT
TZOFFSETFROM:-0600
TZOFFSETTO:-0500
TZNAME:CDT
DTSTART:20260308T080000
END:DAYLIGHT
BEGIN:STANDARD
TZOFFSETFROM:-0500
TZOFFSETTO:-0600
TZNAME:CST
DTSTART:20261101T070000
END:STANDARD
BEGIN:DAYLIGHT
TZOFFSETFROM:-0600
TZOFFSETTO:-0500
TZNAME:CDT
DTSTART:20270314T080000
END:DAYLIGHT
BEGIN:STANDARD
TZOFFSETFROM:-0500
TZOFFSETTO:-0600
TZNAME:CST
DTSTART:20271107T070000
END:STANDARD
END:VTIMEZONE
BEGIN:VEVENT
DTSTART;TZID=America/Chicago:20260425T190000
DTEND;TZID=America/Chicago:20260425T233000
DTSTAMP:20260421T074935
CREATED:20250908T184201Z
LAST-MODIFIED:20250912T152805Z
UID:10001854-1777143600-1777159800@897theriver.com
SUMMARY:Nate Bargatze
DESCRIPTION:Big Dumb Eyes World Tour \n\nNate Bargatze\n\n 
URL:https://897theriver.com/event/nate-bargatze/
LOCATION:CHI Health Center\, 455 N 10th St\, Omaha\, NE\, 68102\, United States
END:VEVENT
BEGIN:VEVENT
DTSTART;TZID=America/Chicago:20260425T190000
DTEND;TZID=America/Chicago:20260425T233000
DTSTAMP:20260421T074935
CREATED:20251124T203554Z
LAST-MODIFIED:20251212T172234Z
UID:10001909-1777143600-1777159800@897theriver.com
SUMMARY:Zach Bryan
DESCRIPTION:Zach Bryan\nKings of Leon\nJ.R. Carroll\n\n 
URL:https://897theriver.com/event/zach-bryan-2/
LOCATION:Memorial Stadium\, One Memorial Stadium Drive\, Lincoln\, NE\, 68588\, United States
END:VEVENT
BEGIN:VEVENT
DTSTART;TZID=America/Chicago:20260425T193000
DTEND;TZID=America/Chicago:20260425T233000
DTSTAMP:20260421T074935
CREATED:20260113T170922Z
LAST-MODIFIED:20260116T193306Z
UID:10001944-1777145400-1777159800@897theriver.com
SUMMARY:Avatar
DESCRIPTION:Don’t Go In The Forest Tour 2026 \n\nAvatar\nFleshgod Apocolypse\nFrozen Soul\n\nDoors: 6:30 pm.  Show: 7:30 pm \n 
URL:https://897theriver.com/event/avatar-2/
LOCATION:Steelhouse Omaha\, 1100 Dodge St.\, Omaha\, 68102\, United States
ATTACH;FMTTYPE=image/jpeg:https://897theriver.com/wp-content/uploads/2026/01/Avatar-at-Steelhouse-2026.jpg
END:VEVENT
BEGIN:VEVENT
DTSTART;TZID=America/Chicago:20260425T200000
DTEND;TZID=America/Chicago:20260425T233000
DTSTAMP:20260421T074935
CREATED:20260108T201010Z
LAST-MODIFIED:20260108T201010Z
UID:10001940-1777147200-1777159800@897theriver.com
SUMMARY:Ungoliant
DESCRIPTION:Ungoliant\nVolsungaSaga\nRahvn\nManson Lamps\n\nDoors: 7 pm.  Show: 8 pm
URL:https://897theriver.com/event/ungoliant/
LOCATION:Reverb Lounge\, 6121 Military Ave\, Omaha\, NE\, 68104\, United States
END:VEVENT
END:VCALENDAR