BEGIN:VCALENDAR
VERSION:2.0
PRODID:-//89.7 The River - ECPv6.15.20//NONSGML v1.0//EN
CALSCALE:GREGORIAN
METHOD:PUBLISH
X-WR-CALNAME:89.7 The River
X-ORIGINAL-URL:https://897theriver.com
X-WR-CALDESC:Events for 89.7 The River
REFRESH-INTERVAL;VALUE=DURATION:PT1H
X-Robots-Tag:noindex
X-PUBLISHED-TTL:PT1H
BEGIN:VTIMEZONE
TZID:America/Chicago
BEGIN:DAYLIGHT
TZOFFSETFROM:-0600
TZOFFSETTO:-0500
TZNAME:CDT
DTSTART:20250309T080000
END:DAYLIGHT
BEGIN:STANDARD
TZOFFSETFROM:-0500
TZOFFSETTO:-0600
TZNAME:CST
DTSTART:20251102T070000
END:STANDARD
BEGIN:DAYLIGHT
TZOFFSETFROM:-0600
TZOFFSETTO:-0500
TZNAME:CDT
DTSTART:20260308T080000
END:DAYLIGHT
BEGIN:STANDARD
TZOFFSETFROM:-0500
TZOFFSETTO:-0600
TZNAME:CST
DTSTART:20261101T070000
END:STANDARD
BEGIN:DAYLIGHT
TZOFFSETFROM:-0600
TZOFFSETTO:-0500
TZNAME:CDT
DTSTART:20270314T080000
END:DAYLIGHT
BEGIN:STANDARD
TZOFFSETFROM:-0500
TZOFFSETTO:-0600
TZNAME:CST
DTSTART:20271107T070000
END:STANDARD
END:VTIMEZONE
BEGIN:VEVENT
DTSTART;TZID=America/Chicago:20260502T183000
DTEND;TZID=America/Chicago:20260502T233000
DTSTAMP:20260419T072218
CREATED:20260127T174046Z
LAST-MODIFIED:20260130T164240Z
UID:10001973-1777746600-1777764600@897theriver.com
SUMMARY:Black Veil Brides
DESCRIPTION:Black Veil Brides\nFrom Ashes To New\nTX2\nAs December Falls\n\nDoors: 5:30 pm.  Show: 6:35 pm \n 
URL:https://897theriver.com/event/black-veil-brides-2/
LOCATION:Astro Theater\, 8302 City Centre Dr.\, La Vista\, NE\, 68128\, United States
ATTACH;FMTTYPE=image/jpeg:https://897theriver.com/wp-content/uploads/2026/01/bbad785b-f524-48aa-a73a-2a9c66048a17.jpg
END:VEVENT
BEGIN:VEVENT
DTSTART;TZID=America/Chicago:20260502T183000
DTEND;TZID=America/Chicago:20260502T233000
DTSTAMP:20260419T072218
CREATED:20260223T203255Z
LAST-MODIFIED:20260223T203255Z
UID:10002009-1777746600-1777764600@897theriver.com
SUMMARY:Spineshank
DESCRIPTION:NU Metal Sucks Tour \n\nSpineshank\nHed PE\nPrimer 55\n\nDoors: 6 pm.  Show: 6:30 pm
URL:https://897theriver.com/event/spineshank/
LOCATION:The Bourbon Theatre\, 1415 O St\, Lincoln\, NE\, 68508\, United States
END:VEVENT
BEGIN:VEVENT
DTSTART;TZID=America/Chicago:20260502T190000
DTEND;TZID=America/Chicago:20260502T190000
DTSTAMP:20260419T072218
CREATED:20250903T150844Z
LAST-MODIFIED:20250908T153614Z
UID:10001850-1777748400-1777748400@897theriver.com
SUMMARY:Alter Bridge
DESCRIPTION:What Lies Within Tour \n\nAlter Bridge\nFilter\nTim Montana\n\nDoors: 6 pm.  Show: 7 pm \n 
URL:https://897theriver.com/event/alter-bridge-2/
LOCATION:Steelhouse Omaha\, 1100 Dodge St.\, Omaha\, 68102\, United States
ATTACH;FMTTYPE=image/jpeg:https://897theriver.com/wp-content/uploads/2025/09/thumbnail_Alter-Bridge-at-Steelhouse-Omaha.jpg
END:VEVENT
END:VCALENDAR