BEGIN:VCALENDAR
VERSION:2.0
PRODID:-//89.7 The River - ECPv6.15.20//NONSGML v1.0//EN
CALSCALE:GREGORIAN
METHOD:PUBLISH
X-ORIGINAL-URL:https://897theriver.com
X-WR-CALDESC:Events for 89.7 The River
REFRESH-INTERVAL;VALUE=DURATION:PT1H
X-Robots-Tag:noindex
X-PUBLISHED-TTL:PT1H
BEGIN:VTIMEZONE
TZID:America/Chicago
BEGIN:DAYLIGHT
TZOFFSETFROM:-0600
TZOFFSETTO:-0500
TZNAME:CDT
DTSTART:20250309T080000
END:DAYLIGHT
BEGIN:STANDARD
TZOFFSETFROM:-0500
TZOFFSETTO:-0600
TZNAME:CST
DTSTART:20251102T070000
END:STANDARD
BEGIN:DAYLIGHT
TZOFFSETFROM:-0600
TZOFFSETTO:-0500
TZNAME:CDT
DTSTART:20260308T080000
END:DAYLIGHT
BEGIN:STANDARD
TZOFFSETFROM:-0500
TZOFFSETTO:-0600
TZNAME:CST
DTSTART:20261101T070000
END:STANDARD
BEGIN:DAYLIGHT
TZOFFSETFROM:-0600
TZOFFSETTO:-0500
TZNAME:CDT
DTSTART:20270314T080000
END:DAYLIGHT
BEGIN:STANDARD
TZOFFSETFROM:-0500
TZOFFSETTO:-0600
TZNAME:CST
DTSTART:20271107T070000
END:STANDARD
END:VTIMEZONE
BEGIN:VEVENT
DTSTART;TZID=America/Chicago:20260508T193000
DTEND;TZID=America/Chicago:20260508T233000
DTSTAMP:20260419T092015
CREATED:20260225T175423Z
LAST-MODIFIED:20260227T213228Z
UID:10002013-1778268600-1778283000@897theriver.com
SUMMARY:Wage War
DESCRIPTION:It Calls Me By Name Tour \n\nWage War\nNevertel\nOrthodox\n\nDoors: 6:30 pm.  Show: 7:30 pm
URL:https://897theriver.com/event/wage-war/
LOCATION:The Admiral Theater\, 2234 S 13th St\, Omaha\, NE\, 68108\, United States
ATTACH;FMTTYPE=image/jpeg:https://897theriver.com/wp-content/uploads/2026/02/9658bd55-3836-45eb-a6f8-4edba37e9de1.jpg
END:VEVENT
END:VCALENDAR