BEGIN:VCALENDAR
VERSION:2.0
PRODID:-//89.7 The River - ECPv6.15.20//NONSGML v1.0//EN
CALSCALE:GREGORIAN
METHOD:PUBLISH
X-ORIGINAL-URL:https://897theriver.com
X-WR-CALDESC:Events for 89.7 The River
REFRESH-INTERVAL;VALUE=DURATION:PT1H
X-Robots-Tag:noindex
X-PUBLISHED-TTL:PT1H
BEGIN:VTIMEZONE
TZID:America/Chicago
BEGIN:DAYLIGHT
TZOFFSETFROM:-0600
TZOFFSETTO:-0500
TZNAME:CDT
DTSTART:20250309T080000
END:DAYLIGHT
BEGIN:STANDARD
TZOFFSETFROM:-0500
TZOFFSETTO:-0600
TZNAME:CST
DTSTART:20251102T070000
END:STANDARD
BEGIN:DAYLIGHT
TZOFFSETFROM:-0600
TZOFFSETTO:-0500
TZNAME:CDT
DTSTART:20260308T080000
END:DAYLIGHT
BEGIN:STANDARD
TZOFFSETFROM:-0500
TZOFFSETTO:-0600
TZNAME:CST
DTSTART:20261101T070000
END:STANDARD
BEGIN:DAYLIGHT
TZOFFSETFROM:-0600
TZOFFSETTO:-0500
TZNAME:CDT
DTSTART:20270314T080000
END:DAYLIGHT
BEGIN:STANDARD
TZOFFSETFROM:-0500
TZOFFSETTO:-0600
TZNAME:CST
DTSTART:20271107T070000
END:STANDARD
END:VTIMEZONE
BEGIN:VEVENT
DTSTART;TZID=America/Chicago:20260509T140000
DTEND;TZID=America/Chicago:20260509T220000
DTSTAMP:20260423T071345
CREATED:20260407T222200Z
LAST-MODIFIED:20260407T222200Z
UID:10002059-1778335200-1778364000@897theriver.com
SUMMARY:RITMO Music Fest
DESCRIPTION:RITMO Music Fest: The Midwest’s Ultimate Latino Music Experience \n\nBanda Los Recoditos\n3BallMTY\nChimbala\nDon Chezina\nMaday\nAdán Rodríguez\nDJ Jpeg\nDJ Revo
URL:https://897theriver.com/event/ritmo-music-fest/
LOCATION:Heartland of America Park\, 800 Douglas St.\, Omaha\, NE\, 68102\, United States
END:VEVENT
BEGIN:VEVENT
DTSTART;TZID=America/Chicago:20260509T200000
DTEND;TZID=America/Chicago:20260509T233000
DTSTAMP:20260423T071345
CREATED:20260126T163102Z
LAST-MODIFIED:20260130T164316Z
UID:10001967-1778356800-1778369400@897theriver.com
SUMMARY:Jo Dee Messina
DESCRIPTION:Jo Dee Messina\nAlexandra Kay\n\n 
URL:https://897theriver.com/event/jo-dee-messina/
LOCATION:Stir Cove\, Harrah’s Casino\, 1 Harrah's Blvd\, Council Bluffs\, IA\, 51501\, United States
END:VEVENT
BEGIN:VEVENT
DTSTART;TZID=America/Chicago:20260509T200000
DTEND;TZID=America/Chicago:20260509T233000
DTSTAMP:20260423T071345
CREATED:20260318T180300Z
LAST-MODIFIED:20260320T151649Z
UID:10002037-1778356800-1778369400@897theriver.com
SUMMARY:John Cusack
DESCRIPTION:An Evening with John Cusack and Screening of “Say Anything” \n\nJohn Cusack\n\nDoors: 7 pm.  Show: 8 pm
URL:https://897theriver.com/event/john-cusack/
LOCATION:Steelhouse Omaha\, 1100 Dodge St.\, Omaha\, 68102\, United States
END:VEVENT
END:VCALENDAR