BEGIN:VCALENDAR
VERSION:2.0
PRODID:-//89.7 The River - ECPv6.15.20//NONSGML v1.0//EN
CALSCALE:GREGORIAN
METHOD:PUBLISH
X-WR-CALNAME:89.7 The River
X-ORIGINAL-URL:https://897theriver.com
X-WR-CALDESC:Events for 89.7 The River
REFRESH-INTERVAL;VALUE=DURATION:PT1H
X-Robots-Tag:noindex
X-PUBLISHED-TTL:PT1H
BEGIN:VTIMEZONE
TZID:America/Chicago
BEGIN:DAYLIGHT
TZOFFSETFROM:-0600
TZOFFSETTO:-0500
TZNAME:CDT
DTSTART:20250309T080000
END:DAYLIGHT
BEGIN:STANDARD
TZOFFSETFROM:-0500
TZOFFSETTO:-0600
TZNAME:CST
DTSTART:20251102T070000
END:STANDARD
BEGIN:DAYLIGHT
TZOFFSETFROM:-0600
TZOFFSETTO:-0500
TZNAME:CDT
DTSTART:20260308T080000
END:DAYLIGHT
BEGIN:STANDARD
TZOFFSETFROM:-0500
TZOFFSETTO:-0600
TZNAME:CST
DTSTART:20261101T070000
END:STANDARD
BEGIN:DAYLIGHT
TZOFFSETFROM:-0600
TZOFFSETTO:-0500
TZNAME:CDT
DTSTART:20270314T080000
END:DAYLIGHT
BEGIN:STANDARD
TZOFFSETFROM:-0500
TZOFFSETTO:-0600
TZNAME:CST
DTSTART:20271107T070000
END:STANDARD
END:VTIMEZONE
BEGIN:VEVENT
DTSTART;TZID=America/Chicago:20260522T000000
DTEND;TZID=America/Chicago:20260525T233000
DTSTAMP:20260419T071219
CREATED:20260212T165733Z
LAST-MODIFIED:20260212T165803Z
UID:10001999-1779408000-1779751800@897theriver.com
SUMMARY:The Wall That Heals
DESCRIPTION:The Wall That Heals \nThe Wall That Heals is a traveling\, three-quarter-scale replica of the Vietnam Veterans Memorial in Washington\, D.C.\, accompanied by a mobile Education Center that helps tell the story of the Vietnam War and honor those who served and sacrificed. The exhibit will be open 24 hours a day and free to the public at Lewis Central High School in Council Bluffs throughout Memorial Day Weekend\, May 22-25. \nVolunteers are needed in the following roles: \n\nAssisting with set-up and teardown of the Wall and Education Center\n\n\nStaffing shifts around the clock to help visitors\n\n\nSupporting ceremonies and special events held during the weekend\n\n\nHelping ensure a respectful\, welcoming space for reflection\n\n\nParticipating in the motorcade escort of the Wall and Education Center through the county\n\nClick the following link to sign up for a volunteer position:  https://www.pottcounty-ia.gov/news/volunteer_signup_now_open_for_the_wall_that_heals/
URL:https://897theriver.com/event/the-wall-that-heals/
LOCATION:Lewis Central High School\, 3504 Harry Langdon Blvd.\, Council Bluffs\, IA\, 51503\, United States
END:VEVENT
BEGIN:VEVENT
DTSTART;TZID=America/Chicago:20260523T190000
DTEND;TZID=America/Chicago:20260523T233000
DTSTAMP:20260419T071219
CREATED:20260210T223420Z
LAST-MODIFIED:20260213T162456Z
UID:10001994-1779562800-1779579000@897theriver.com
SUMMARY:Brantley Gilbert
DESCRIPTION:Brantley Gilbert\nAaron Lewis And The Stateliners\n\n 
URL:https://897theriver.com/event/brantley-gilbert-2/
LOCATION:Pinewood Bowl Amphitheater\, 3201 S Coddington Ave\, Lincoln\, NE\, 68522\, United States
ATTACH;FMTTYPE=image/jpeg:https://897theriver.com/wp-content/uploads/2026/02/632278213_1255239010036743_3644392096617529616_n.jpg
END:VEVENT
END:VCALENDAR