BEGIN:VCALENDAR
VERSION:2.0
PRODID:-//89.7 The River - ECPv6.15.20//NONSGML v1.0//EN
CALSCALE:GREGORIAN
METHOD:PUBLISH
X-WR-CALNAME:89.7 The River
X-ORIGINAL-URL:https://897theriver.com
X-WR-CALDESC:Events for 89.7 The River
REFRESH-INTERVAL;VALUE=DURATION:PT1H
X-Robots-Tag:noindex
X-PUBLISHED-TTL:PT1H
BEGIN:VTIMEZONE
TZID:America/Chicago
BEGIN:DAYLIGHT
TZOFFSETFROM:-0600
TZOFFSETTO:-0500
TZNAME:CDT
DTSTART:20250309T080000
END:DAYLIGHT
BEGIN:STANDARD
TZOFFSETFROM:-0500
TZOFFSETTO:-0600
TZNAME:CST
DTSTART:20251102T070000
END:STANDARD
BEGIN:DAYLIGHT
TZOFFSETFROM:-0600
TZOFFSETTO:-0500
TZNAME:CDT
DTSTART:20260308T080000
END:DAYLIGHT
BEGIN:STANDARD
TZOFFSETFROM:-0500
TZOFFSETTO:-0600
TZNAME:CST
DTSTART:20261101T070000
END:STANDARD
BEGIN:DAYLIGHT
TZOFFSETFROM:-0600
TZOFFSETTO:-0500
TZNAME:CDT
DTSTART:20270314T080000
END:DAYLIGHT
BEGIN:STANDARD
TZOFFSETFROM:-0500
TZOFFSETTO:-0600
TZNAME:CST
DTSTART:20271107T070000
END:STANDARD
END:VTIMEZONE
BEGIN:VEVENT
DTSTART;TZID=America/Chicago:20260619T193000
DTEND;TZID=America/Chicago:20260619T233000
DTSTAMP:20260421T073513
CREATED:20251117T162642Z
LAST-MODIFIED:20251121T161748Z
UID:10001896-1781897400-1781911800@897theriver.com
SUMMARY:Alex Warren
DESCRIPTION:Alex Warren Presents: Little Orphan Alex Live \n\nAlex Warren\n\nDoors: 6:30 pm.  Show: 7:30 pm \n 
URL:https://897theriver.com/event/alex-warren/
LOCATION:CHI Health Center\, 455 N 10th St\, Omaha\, NE\, 68102\, United States
END:VEVENT
BEGIN:VEVENT
DTSTART;TZID=America/Chicago:20260619T193000
DTEND;TZID=America/Chicago:20260619T233000
DTSTAMP:20260421T073513
CREATED:20251209T184848Z
LAST-MODIFIED:20251212T172348Z
UID:10001920-1781897400-1781911800@897theriver.com
SUMMARY:Alison Krauss & Union Station
DESCRIPTION:Arcadia Tour \n\nAlison Krauss & Union Station featuring Jerry Douglas\nTheo Lawrence\n\nGates: 6 pm.  Show: 7:30 pm \n 
URL:https://897theriver.com/event/alison-krauss-union-station/
LOCATION:Pinewood Bowl Amphitheater\, 3201 S Coddington Ave\, Lincoln\, NE\, 68522\, United States
END:VEVENT
END:VCALENDAR