BEGIN:VCALENDAR
VERSION:2.0
PRODID:-//89.7 The River - ECPv6.15.20//NONSGML v1.0//EN
CALSCALE:GREGORIAN
METHOD:PUBLISH
X-ORIGINAL-URL:https://897theriver.com
X-WR-CALDESC:Events for 89.7 The River
REFRESH-INTERVAL;VALUE=DURATION:PT1H
X-Robots-Tag:noindex
X-PUBLISHED-TTL:PT1H
BEGIN:VTIMEZONE
TZID:America/Chicago
BEGIN:DAYLIGHT
TZOFFSETFROM:-0600
TZOFFSETTO:-0500
TZNAME:CDT
DTSTART:20250309T080000
END:DAYLIGHT
BEGIN:STANDARD
TZOFFSETFROM:-0500
TZOFFSETTO:-0600
TZNAME:CST
DTSTART:20251102T070000
END:STANDARD
BEGIN:DAYLIGHT
TZOFFSETFROM:-0600
TZOFFSETTO:-0500
TZNAME:CDT
DTSTART:20260308T080000
END:DAYLIGHT
BEGIN:STANDARD
TZOFFSETFROM:-0500
TZOFFSETTO:-0600
TZNAME:CST
DTSTART:20261101T070000
END:STANDARD
BEGIN:DAYLIGHT
TZOFFSETFROM:-0600
TZOFFSETTO:-0500
TZNAME:CDT
DTSTART:20270314T080000
END:DAYLIGHT
BEGIN:STANDARD
TZOFFSETFROM:-0500
TZOFFSETTO:-0600
TZNAME:CST
DTSTART:20271107T070000
END:STANDARD
END:VTIMEZONE
BEGIN:VEVENT
DTSTART;TZID=America/Chicago:20260620T190000
DTEND;TZID=America/Chicago:20260620T233000
DTSTAMP:20260421T140957
CREATED:20260310T150418Z
LAST-MODIFIED:20260313T153512Z
UID:10002029-1781982000-1781998200@897theriver.com
SUMMARY:38 Special & Kansas
DESCRIPTION:38 Special\nKansas\n\n 
URL:https://897theriver.com/event/38-special-kansas/
LOCATION:Pinewood Bowl Amphitheater\, 3201 S Coddington Ave\, Lincoln\, NE\, 68522\, United States
END:VEVENT
BEGIN:VEVENT
DTSTART;TZID=America/Chicago:20260620T200000
DTEND;TZID=America/Chicago:20260620T233000
DTSTAMP:20260421T140957
CREATED:20260127T175713Z
LAST-MODIFIED:20260130T164400Z
UID:10001974-1781985600-1781998200@897theriver.com
SUMMARY:The Wallflowers
DESCRIPTION:The Wallflowers\n\nDoors: 7 pm.  Show: 8 pm \n 
URL:https://897theriver.com/event/the-wallflowers-2/
LOCATION:Steelhouse Omaha\, 1100 Dodge St.\, Omaha\, 68102\, United States
END:VEVENT
BEGIN:VEVENT
DTSTART;TZID=America/Chicago:20260620T200000
DTEND;TZID=America/Chicago:20260620T233000
DTSTAMP:20260421T140957
CREATED:20260318T161206Z
LAST-MODIFIED:20260320T151823Z
UID:10002036-1781985600-1781998200@897theriver.com
SUMMARY:Ben Folds
DESCRIPTION:Ben Folds and a Piano \n\nBen Folds\n\n  \n 
URL:https://897theriver.com/event/ben-folds/
LOCATION:Holland Center\, 1200 Douglas St\, Omaha\, NE\, 68102\, United States
ATTACH;FMTTYPE=image/jpeg:https://897theriver.com/wp-content/uploads/2026/03/c1d6d3c9-710f-4f1e-9b8d-9291f6bd76a9.jpg
END:VEVENT
END:VCALENDAR