BEGIN:VCALENDAR
VERSION:2.0
PRODID:-//89.7 The River - ECPv6.15.20//NONSGML v1.0//EN
CALSCALE:GREGORIAN
METHOD:PUBLISH
X-ORIGINAL-URL:https://897theriver.com
X-WR-CALDESC:Events for 89.7 The River
REFRESH-INTERVAL;VALUE=DURATION:PT1H
X-Robots-Tag:noindex
X-PUBLISHED-TTL:PT1H
BEGIN:VTIMEZONE
TZID:America/Chicago
BEGIN:DAYLIGHT
TZOFFSETFROM:-0600
TZOFFSETTO:-0500
TZNAME:CDT
DTSTART:20250309T080000
END:DAYLIGHT
BEGIN:STANDARD
TZOFFSETFROM:-0500
TZOFFSETTO:-0600
TZNAME:CST
DTSTART:20251102T070000
END:STANDARD
BEGIN:DAYLIGHT
TZOFFSETFROM:-0600
TZOFFSETTO:-0500
TZNAME:CDT
DTSTART:20260308T080000
END:DAYLIGHT
BEGIN:STANDARD
TZOFFSETFROM:-0500
TZOFFSETTO:-0600
TZNAME:CST
DTSTART:20261101T070000
END:STANDARD
BEGIN:DAYLIGHT
TZOFFSETFROM:-0600
TZOFFSETTO:-0500
TZNAME:CDT
DTSTART:20270314T080000
END:DAYLIGHT
BEGIN:STANDARD
TZOFFSETFROM:-0500
TZOFFSETTO:-0600
TZNAME:CST
DTSTART:20271107T070000
END:STANDARD
END:VTIMEZONE
BEGIN:VEVENT
DTSTART;TZID=America/Chicago:20260628T193000
DTEND;TZID=America/Chicago:20260628T233000
DTSTAMP:20260421T091403
CREATED:20251117T211352Z
LAST-MODIFIED:20251121T161814Z
UID:10001902-1782675000-1782689400@897theriver.com
SUMMARY:Weird Al Yankovic
DESCRIPTION:Bigger & Weirder 2026 Tour \n\nWeird Al Yankovic\nPuddles Pity Party\n\n 
URL:https://897theriver.com/event/weird-al-yankovic-2/
LOCATION:Baxter Arena\, 2425 S 67th St\, Omaha\, NE\, 68182\, United States
END:VEVENT
BEGIN:VEVENT
DTSTART;TZID=America/Chicago:20260628T193000
DTEND;TZID=America/Chicago:20260628T233000
DTSTAMP:20260421T091403
CREATED:20260303T160551Z
LAST-MODIFIED:20260303T171050Z
UID:10002018-1782675000-1782689400@897theriver.com
SUMMARY:Charley Crockett
DESCRIPTION:Age of the Ram Tour \n\nCharley Crockett\nSierra Hull\n\nDoors: 6:30 pm. Show: 7:30 pm
URL:https://897theriver.com/event/charley-crockett-3/
LOCATION:Steelhouse Omaha\, 1100 Dodge St.\, Omaha\, 68102\, United States
ATTACH;FMTTYPE=image/jpeg:https://897theriver.com/wp-content/uploads/2026/03/d837c1d9-9714-4d86-8d03-318114fd2ff8.jpg
END:VEVENT
END:VCALENDAR