BEGIN:VCALENDAR
VERSION:2.0
PRODID:-//89.7 The River - ECPv6.15.20//NONSGML v1.0//EN
CALSCALE:GREGORIAN
METHOD:PUBLISH
X-WR-CALNAME:89.7 The River
X-ORIGINAL-URL:https://897theriver.com
X-WR-CALDESC:Events for 89.7 The River
REFRESH-INTERVAL;VALUE=DURATION:PT1H
X-Robots-Tag:noindex
X-PUBLISHED-TTL:PT1H
BEGIN:VTIMEZONE
TZID:America/Chicago
BEGIN:DAYLIGHT
TZOFFSETFROM:-0600
TZOFFSETTO:-0500
TZNAME:CDT
DTSTART:20250309T080000
END:DAYLIGHT
BEGIN:STANDARD
TZOFFSETFROM:-0500
TZOFFSETTO:-0600
TZNAME:CST
DTSTART:20251102T070000
END:STANDARD
BEGIN:DAYLIGHT
TZOFFSETFROM:-0600
TZOFFSETTO:-0500
TZNAME:CDT
DTSTART:20260308T080000
END:DAYLIGHT
BEGIN:STANDARD
TZOFFSETFROM:-0500
TZOFFSETTO:-0600
TZNAME:CST
DTSTART:20261101T070000
END:STANDARD
BEGIN:DAYLIGHT
TZOFFSETFROM:-0600
TZOFFSETTO:-0500
TZNAME:CDT
DTSTART:20270314T080000
END:DAYLIGHT
BEGIN:STANDARD
TZOFFSETFROM:-0500
TZOFFSETTO:-0600
TZNAME:CST
DTSTART:20271107T070000
END:STANDARD
END:VTIMEZONE
BEGIN:VEVENT
DTSTART;TZID=America/Chicago:20260715T163000
DTEND;TZID=America/Chicago:20260715T233000
DTSTAMP:20260423T232433
CREATED:20260324T153948Z
LAST-MODIFIED:20260324T153948Z
UID:10002044-1784133000-1784158200@897theriver.com
SUMMARY:Hatebreed
DESCRIPTION:Summer Slaughter Tour \n\nHatebreed\nDevourment\nSnuffed On Sight\nBalmora\nFace Yourself\n\nDoors:  4 pm.  Show: 4:45 pm
URL:https://897theriver.com/event/hatebreed/
LOCATION:The Admiral Theater\, 2234 S 13th St\, Omaha\, NE\, 68108\, United States
ATTACH;FMTTYPE=image/jpeg:https://897theriver.com/wp-content/uploads/2026/03/5594e48b-a8dc-462f-98a3-15b5bd349a66-scaled.jpg
END:VEVENT
BEGIN:VEVENT
DTSTART;TZID=America/Chicago:20260715T200000
DTEND;TZID=America/Chicago:20260715T233000
DTSTAMP:20260423T232433
CREATED:20260116T194728Z
LAST-MODIFIED:20260116T194728Z
UID:10001948-1784145600-1784158200@897theriver.com
SUMMARY:Junvenile
DESCRIPTION:Boiling Point Album Release Tour \n\nJunvenile\nThe 400 Degreez Band\n\nDoors: 7 pm.  Show: 8 pm
URL:https://897theriver.com/event/junvenile/
LOCATION:The Bourbon Theatre\, 1415 O St\, Lincoln\, NE\, 68508\, United States
ATTACH;FMTTYPE=image/webp:https://897theriver.com/wp-content/uploads/2026/01/77279b5f-35f2-4709-81a2-b3a9eb853725_1080x1350.webp
END:VEVENT
BEGIN:VEVENT
DTSTART;TZID=America/Chicago:20260715T200000
DTEND;TZID=America/Chicago:20260715T233000
DTSTAMP:20260423T232433
CREATED:20260413T150254Z
LAST-MODIFIED:20260413T150254Z
UID:10002062-1784145600-1784158200@897theriver.com
SUMMARY:Colony House
DESCRIPTION:Colony House\n\nDoors: 7 pm.  Show: 8 pm
URL:https://897theriver.com/event/colony-house/
LOCATION:Slowdown\, 729 N 14th St\, Omaha\, NE\, 68102\, United States
END:VEVENT
END:VCALENDAR