BEGIN:VCALENDAR
VERSION:2.0
PRODID:-//89.7 The River - ECPv6.15.20//NONSGML v1.0//EN
CALSCALE:GREGORIAN
METHOD:PUBLISH
X-WR-CALNAME:89.7 The River
X-ORIGINAL-URL:https://897theriver.com
X-WR-CALDESC:Events for 89.7 The River
REFRESH-INTERVAL;VALUE=DURATION:PT1H
X-Robots-Tag:noindex
X-PUBLISHED-TTL:PT1H
BEGIN:VTIMEZONE
TZID:America/Chicago
BEGIN:DAYLIGHT
TZOFFSETFROM:-0600
TZOFFSETTO:-0500
TZNAME:CDT
DTSTART:20250309T080000
END:DAYLIGHT
BEGIN:STANDARD
TZOFFSETFROM:-0500
TZOFFSETTO:-0600
TZNAME:CST
DTSTART:20251102T070000
END:STANDARD
BEGIN:DAYLIGHT
TZOFFSETFROM:-0600
TZOFFSETTO:-0500
TZNAME:CDT
DTSTART:20260308T080000
END:DAYLIGHT
BEGIN:STANDARD
TZOFFSETFROM:-0500
TZOFFSETTO:-0600
TZNAME:CST
DTSTART:20261101T070000
END:STANDARD
BEGIN:DAYLIGHT
TZOFFSETFROM:-0600
TZOFFSETTO:-0500
TZNAME:CDT
DTSTART:20270314T080000
END:DAYLIGHT
BEGIN:STANDARD
TZOFFSETFROM:-0500
TZOFFSETTO:-0600
TZNAME:CST
DTSTART:20271107T070000
END:STANDARD
END:VTIMEZONE
BEGIN:VEVENT
DTSTART;TZID=America/Chicago:20260718T190000
DTEND;TZID=America/Chicago:20260718T233000
DTSTAMP:20260423T183406
CREATED:20260105T172535Z
LAST-MODIFIED:20260302T190657Z
UID:10001933-1784401200-1784417400@897theriver.com
SUMMARY:Mammoth
DESCRIPTION:The End Tour \n\nMammoth\nBig Wreck\n\nDoors: 6 pm.  Show: 7 pm \nNote:  Rescheduled from November 29th\, 2025.  All previously purchased tickets will be honored for this new date.
URL:https://897theriver.com/event/mammoth-2/
LOCATION:Astro Theater\, 8302 City Centre Dr.\, La Vista\, NE\, 68128\, United States
ATTACH;FMTTYPE=image/jpeg:https://897theriver.com/wp-content/uploads/2026/01/fa1ffd6b-242a-47e0-b3fe-7fb4bebf7834-scaled.jpg
END:VEVENT
BEGIN:VEVENT
DTSTART;TZID=America/Chicago:20260718T200000
DTEND;TZID=America/Chicago:20260718T233000
DTSTAMP:20260423T183406
CREATED:20260309T195636Z
LAST-MODIFIED:20260309T195636Z
UID:10002028-1784404800-1784417400@897theriver.com
SUMMARY:Wilderado
DESCRIPTION:Wilderado\nLuke Tyler Shelton\n\nDoors: 7 pm.  Show: 8 pm
URL:https://897theriver.com/event/wilderado/
LOCATION:Slowdown\, 729 N 14th St\, Omaha\, NE\, 68102\, United States
END:VEVENT
END:VCALENDAR