BEGIN:VCALENDAR
VERSION:2.0
PRODID:-//89.7 The River - ECPv6.15.20//NONSGML v1.0//EN
CALSCALE:GREGORIAN
METHOD:PUBLISH
X-WR-CALNAME:89.7 The River
X-ORIGINAL-URL:https://897theriver.com
X-WR-CALDESC:Events for 89.7 The River
REFRESH-INTERVAL;VALUE=DURATION:PT1H
X-Robots-Tag:noindex
X-PUBLISHED-TTL:PT1H
BEGIN:VTIMEZONE
TZID:America/Chicago
BEGIN:DAYLIGHT
TZOFFSETFROM:-0600
TZOFFSETTO:-0500
TZNAME:CDT
DTSTART:20250309T080000
END:DAYLIGHT
BEGIN:STANDARD
TZOFFSETFROM:-0500
TZOFFSETTO:-0600
TZNAME:CST
DTSTART:20251102T070000
END:STANDARD
BEGIN:DAYLIGHT
TZOFFSETFROM:-0600
TZOFFSETTO:-0500
TZNAME:CDT
DTSTART:20260308T080000
END:DAYLIGHT
BEGIN:STANDARD
TZOFFSETFROM:-0500
TZOFFSETTO:-0600
TZNAME:CST
DTSTART:20261101T070000
END:STANDARD
BEGIN:DAYLIGHT
TZOFFSETFROM:-0600
TZOFFSETTO:-0500
TZNAME:CDT
DTSTART:20270314T080000
END:DAYLIGHT
BEGIN:STANDARD
TZOFFSETFROM:-0500
TZOFFSETTO:-0600
TZNAME:CST
DTSTART:20271107T070000
END:STANDARD
END:VTIMEZONE
BEGIN:VEVENT
DTSTART;TZID=America/Chicago:20260726T193000
DTEND;TZID=America/Chicago:20260726T233000
DTSTAMP:20260423T183356
CREATED:20260331T162628Z
LAST-MODIFIED:20260403T152407Z
UID:10002049-1785094200-1785108600@897theriver.com
SUMMARY:Old Crow Medicine Show
DESCRIPTION:Old Crow Medicine Show\n\n 
URL:https://897theriver.com/event/old-crow-medicine-show/
LOCATION:Steelhouse Omaha\, 1100 Dodge St.\, Omaha\, 68102\, United States
ATTACH;FMTTYPE=image/jpeg:https://897theriver.com/wp-content/uploads/2026/03/f4b301c7-6e63-4138-a947-d853066711f5.jpg
END:VEVENT
BEGIN:VEVENT
DTSTART;TZID=America/Chicago:20260726T200000
DTEND;TZID=America/Chicago:20260726T233000
DTSTAMP:20260423T183356
CREATED:20260123T211534Z
LAST-MODIFIED:20260130T164509Z
UID:10001965-1785096000-1785108600@897theriver.com
SUMMARY:Death Cab For Cutie
DESCRIPTION:Death Cab For Cutie\nNation of Language\n\n 
URL:https://897theriver.com/event/death-cab-for-cutie-2/
LOCATION:Stir Cove\, Harrah’s Casino\, 1 Harrah's Blvd\, Council Bluffs\, IA\, 51501\, United States
ATTACH;FMTTYPE=image/jpeg:https://897theriver.com/wp-content/uploads/2026/01/618495897_1477676684360775_3118759128677324376_n.jpg
END:VEVENT
END:VCALENDAR