BEGIN:VCALENDAR
VERSION:2.0
PRODID:-//89.7 The River - ECPv6.15.20//NONSGML v1.0//EN
CALSCALE:GREGORIAN
METHOD:PUBLISH
X-WR-CALNAME:89.7 The River
X-ORIGINAL-URL:https://897theriver.com
X-WR-CALDESC:Events for 89.7 The River
REFRESH-INTERVAL;VALUE=DURATION:PT1H
X-Robots-Tag:noindex
X-PUBLISHED-TTL:PT1H
BEGIN:VTIMEZONE
TZID:America/Chicago
BEGIN:DAYLIGHT
TZOFFSETFROM:-0600
TZOFFSETTO:-0500
TZNAME:CDT
DTSTART:20250309T080000
END:DAYLIGHT
BEGIN:STANDARD
TZOFFSETFROM:-0500
TZOFFSETTO:-0600
TZNAME:CST
DTSTART:20251102T070000
END:STANDARD
BEGIN:DAYLIGHT
TZOFFSETFROM:-0600
TZOFFSETTO:-0500
TZNAME:CDT
DTSTART:20260308T080000
END:DAYLIGHT
BEGIN:STANDARD
TZOFFSETFROM:-0500
TZOFFSETTO:-0600
TZNAME:CST
DTSTART:20261101T070000
END:STANDARD
BEGIN:DAYLIGHT
TZOFFSETFROM:-0600
TZOFFSETTO:-0500
TZNAME:CDT
DTSTART:20270314T080000
END:DAYLIGHT
BEGIN:STANDARD
TZOFFSETFROM:-0500
TZOFFSETTO:-0600
TZNAME:CST
DTSTART:20271107T070000
END:STANDARD
END:VTIMEZONE
BEGIN:VEVENT
DTSTART;TZID=America/Chicago:20260922T190000
DTEND;TZID=America/Chicago:20260922T233000
DTSTAMP:20260425T102212
CREATED:20260209T164147Z
LAST-MODIFIED:20260213T162738Z
UID:10001985-1790103600-1790119800@897theriver.com
SUMMARY:Bilmuri
DESCRIPTION:Kinda Hard Tour \n\nBilmuri\nKnuckle Puck\n\nDoors: 6 pm.  Show: 7 pm \n 
URL:https://897theriver.com/event/bilmuri/
LOCATION:Steelhouse Omaha\, 1100 Dodge St.\, Omaha\, 68102\, United States
END:VEVENT
BEGIN:VEVENT
DTSTART;TZID=America/Chicago:20260922T193000
DTEND;TZID=America/Chicago:20260922T233000
DTSTAMP:20260425T102212
CREATED:20260407T215719Z
LAST-MODIFIED:20260407T215738Z
UID:10002058-1790105400-1790119800@897theriver.com
SUMMARY:The Format
DESCRIPTION:The Format\nThe Get Up Kids\n\nDoors: 6 pm.  Show: 7:30 pm
URL:https://897theriver.com/event/the-format/
LOCATION:Slowdown\, 729 N 14th St\, Omaha\, NE\, 68102\, United States
END:VEVENT
END:VCALENDAR