BEGIN:VCALENDAR
VERSION:2.0
PRODID:-//89.7 The River - ECPv6.15.20//NONSGML v1.0//EN
CALSCALE:GREGORIAN
METHOD:PUBLISH
X-WR-CALNAME:89.7 The River
X-ORIGINAL-URL:https://897theriver.com
X-WR-CALDESC:Events for 89.7 The River
REFRESH-INTERVAL;VALUE=DURATION:PT1H
X-Robots-Tag:noindex
X-PUBLISHED-TTL:PT1H
BEGIN:VTIMEZONE
TZID:America/Chicago
BEGIN:DAYLIGHT
TZOFFSETFROM:-0600
TZOFFSETTO:-0500
TZNAME:CDT
DTSTART:20250309T080000
END:DAYLIGHT
BEGIN:STANDARD
TZOFFSETFROM:-0500
TZOFFSETTO:-0600
TZNAME:CST
DTSTART:20251102T070000
END:STANDARD
BEGIN:DAYLIGHT
TZOFFSETFROM:-0600
TZOFFSETTO:-0500
TZNAME:CDT
DTSTART:20260308T080000
END:DAYLIGHT
BEGIN:STANDARD
TZOFFSETFROM:-0500
TZOFFSETTO:-0600
TZNAME:CST
DTSTART:20261101T070000
END:STANDARD
BEGIN:DAYLIGHT
TZOFFSETFROM:-0600
TZOFFSETTO:-0500
TZNAME:CDT
DTSTART:20270314T080000
END:DAYLIGHT
BEGIN:STANDARD
TZOFFSETFROM:-0500
TZOFFSETTO:-0600
TZNAME:CST
DTSTART:20271107T070000
END:STANDARD
END:VTIMEZONE
BEGIN:VEVENT
DTSTART;TZID=America/Chicago:20261003T183000
DTEND;TZID=America/Chicago:20261003T233000
DTSTAMP:20260425T102242
CREATED:20260202T163900Z
LAST-MODIFIED:20260202T163900Z
UID:10001979-1791052200-1791070200@897theriver.com
SUMMARY:Five Finger Death Punch
DESCRIPTION:Five Finger Death Punch\nCody Jinks\nEva Under Fire\n\nShow: 6:45 pm
URL:https://897theriver.com/event/five-finger-death-punch-3/
LOCATION:Morton Ampthitheater\, 6150 NW Music Blvd.\, Riverside\, MO\, 64150\, United States
END:VEVENT
BEGIN:VEVENT
DTSTART;TZID=America/Chicago:20261003T200000
DTEND;TZID=America/Chicago:20261003T233000
DTSTAMP:20260425T102242
CREATED:20260421T152344Z
LAST-MODIFIED:20260424T152434Z
UID:10002073-1791057600-1791070200@897theriver.com
SUMMARY:Beck
DESCRIPTION:Ride Lonesome Tour \n\nBeck\n\n 
URL:https://897theriver.com/event/beck/
LOCATION:Steelhouse Omaha\, 1100 Dodge St.\, Omaha\, 68102\, United States
ATTACH;FMTTYPE=image/jpeg:https://897theriver.com/wp-content/uploads/2026/04/9d306123-7fed-410c-9f7c-cf0836124736.jpg
END:VEVENT
END:VCALENDAR