BEGIN:VCALENDAR
VERSION:2.0
PRODID:-//89.7 The River - ECPv6.15.20//NONSGML v1.0//EN
CALSCALE:GREGORIAN
METHOD:PUBLISH
X-WR-CALNAME:89.7 The River
X-ORIGINAL-URL:https://897theriver.com
X-WR-CALDESC:Events for 89.7 The River
REFRESH-INTERVAL;VALUE=DURATION:PT1H
X-Robots-Tag:noindex
X-PUBLISHED-TTL:PT1H
BEGIN:VTIMEZONE
TZID:America/Chicago
BEGIN:DAYLIGHT
TZOFFSETFROM:-0600
TZOFFSETTO:-0500
TZNAME:CDT
DTSTART:20240310T080000
END:DAYLIGHT
BEGIN:STANDARD
TZOFFSETFROM:-0500
TZOFFSETTO:-0600
TZNAME:CST
DTSTART:20241103T070000
END:STANDARD
BEGIN:DAYLIGHT
TZOFFSETFROM:-0600
TZOFFSETTO:-0500
TZNAME:CDT
DTSTART:20250309T080000
END:DAYLIGHT
BEGIN:STANDARD
TZOFFSETFROM:-0500
TZOFFSETTO:-0600
TZNAME:CST
DTSTART:20251102T070000
END:STANDARD
BEGIN:DAYLIGHT
TZOFFSETFROM:-0600
TZOFFSETTO:-0500
TZNAME:CDT
DTSTART:20260308T080000
END:DAYLIGHT
BEGIN:STANDARD
TZOFFSETFROM:-0500
TZOFFSETTO:-0600
TZNAME:CST
DTSTART:20261101T070000
END:STANDARD
END:VTIMEZONE
BEGIN:VEVENT
DTSTART;TZID=America/Chicago:20251123T190000
DTEND;TZID=America/Chicago:20251123T233000
DTSTAMP:20260421T014402
CREATED:20250910T181648Z
LAST-MODIFIED:20250910T181648Z
UID:10001856-1763924400-1763940600@897theriver.com
SUMMARY:Giovannie and the Hired Guns
DESCRIPTION:Giovannie and the Hired Guns\nAustin Meade\n\nDoors: 6 pm.  Show: 7 pm
URL:https://897theriver.com/event/giovannie-and-the-hired-guns-2/
LOCATION:The Bourbon Theatre\, 1415 O St\, Lincoln\, NE\, 68508\, United States
END:VEVENT
BEGIN:VEVENT
DTSTART;TZID=America/Chicago:20251122T190000
DTEND;TZID=America/Chicago:20251122T233000
DTSTAMP:20260421T014402
CREATED:20250725T152503Z
LAST-MODIFIED:20250725T152503Z
UID:10001829-1763838000-1763854200@897theriver.com
SUMMARY:Grand Kyiv Ballet presents The Nutcracker
DESCRIPTION:Grand Kyiv Ballet presents The Nutcracker
URL:https://897theriver.com/event/grand-kyiv-ballet-presents-the-nutcracker-2/
LOCATION:The Arts Center at Iowa Western\, 2700 College Road\, Council Bluffs\, IA\, 51503\, United States
END:VEVENT
BEGIN:VEVENT
DTSTART;TZID=America/Chicago:20251122T190000
DTEND;TZID=America/Chicago:20251122T233000
DTSTAMP:20260421T014402
CREATED:20250708T151140Z
LAST-MODIFIED:20250711T184756Z
UID:10001823-1763838000-1763854200@897theriver.com
SUMMARY:Spiritbox
DESCRIPTION:Tsunami Sea North American Tour Part II \n\nSpiritbox\nPeriphery\nHoney Revenge\n\nDoors: 6 pm.  Show: 7 pm \n 
URL:https://897theriver.com/event/spiritbox/
LOCATION:Steelhouse Omaha\, 1100 Dodge St.\, Omaha\, 68102\, United States
END:VEVENT
BEGIN:VEVENT
DTSTART;TZID=America/Chicago:20251122T190000
DTEND;TZID=America/Chicago:20251122T233000
DTSTAMP:20260421T014402
CREATED:20250703T185406Z
LAST-MODIFIED:20250703T185407Z
UID:10001816-1763838000-1763854200@897theriver.com
SUMMARY:Grand Kyiv Ballet presents The Nutcracker
DESCRIPTION:Grand Kyiv Ballet presents The Nutcracker
URL:https://897theriver.com/event/grand-kyiv-ballet-presents-the-nutcracker/
LOCATION:The Arts Center at Iowa Western\, 2700 College Road\, Council Bluffs\, IA\, 51503\, United States
END:VEVENT
BEGIN:VEVENT
DTSTART;TZID=America/Chicago:20251121T193000
DTEND;TZID=America/Chicago:20251121T233000
DTSTAMP:20260421T014402
CREATED:20250922T183254Z
LAST-MODIFIED:20250922T183254Z
UID:10001868-1763753400-1763767800@897theriver.com
SUMMARY:Boney James
DESCRIPTION:Slow Burn Tour \n\nBoney James
URL:https://897theriver.com/event/boney-james/
LOCATION:Holland Center\, 1200 Douglas St\, Omaha\, NE\, 68102\, United States
END:VEVENT
BEGIN:VEVENT
DTSTART;TZID=America/Chicago:20251120T183000
DTEND;TZID=America/Chicago:20251120T233000
DTSTAMP:20260421T014403
CREATED:20251117T165455Z
LAST-MODIFIED:20251117T165455Z
UID:10001900-1763663400-1763681400@897theriver.com
SUMMARY:Riley Green
DESCRIPTION:Damn Country Music Tour \n\nRiley Green\nJamey Johnson\nDrake White\nHannah McFarland\n\nShow: 6:45 pm
URL:https://897theriver.com/event/riley-green-2/
LOCATION:Pinnacle Bank Arena\, 400 Pinnacle Arena Dr\, Lincoln\, NE\, 68508\, United States
END:VEVENT
BEGIN:VEVENT
DTSTART;TZID=America/Chicago:20251117T193000
DTEND;TZID=America/Chicago:20251117T233000
DTSTAMP:20260421T014403
CREATED:20250819T200119Z
LAST-MODIFIED:20250822T153414Z
UID:10001846-1763407800-1763422200@897theriver.com
SUMMARY:Trey Anastasio Band
DESCRIPTION:Trey Anastasio Band \nDoors: 6:30 pm.  Show: 7:30 pm \n 
URL:https://897theriver.com/event/trey-anastasio-band/
LOCATION:Astro Theater\, 8302 City Centre Dr.\, La Vista\, NE\, 68128\, United States
ATTACH;FMTTYPE=image/jpeg:https://897theriver.com/wp-content/uploads/2025/08/thumbnail_TreyAnastasioBand_TheAstroTheater.jpg
END:VEVENT
BEGIN:VEVENT
DTSTART;TZID=America/Chicago:20251116T173000
DTEND;TZID=America/Chicago:20251116T220000
DTSTAMP:20260421T014403
CREATED:20251001T161731Z
LAST-MODIFIED:20251001T161748Z
UID:10001873-1763314200-1763330400@897theriver.com
SUMMARY:Spike Lee
DESCRIPTION:Film Streams Feature IX \n\nSpike Lee\n\nFilm Streams is thrilled to announce that Academy Award-winning filmmaker Spike Lee will be our special guest for Feature 9\, the latest fundraising event in support of our nonprofit’s mission and programs. \n\n5:30 pm Host & Patron Pre-Party\n7 pm Presentation\n8:30 pm Post-Party
URL:https://897theriver.com/event/spike-lee/
LOCATION:Holland Center\, 1200 Douglas St\, Omaha\, NE\, 68102\, United States
END:VEVENT
BEGIN:VEVENT
DTSTART;TZID=America/Chicago:20251115T190000
DTEND;TZID=America/Chicago:20251115T233000
DTSTAMP:20260421T014403
CREATED:20251103T163657Z
LAST-MODIFIED:20251103T163657Z
UID:10001889-1763233200-1763249400@897theriver.com
SUMMARY:IWCC Musical Theater: Rudolph the Red-Nosed Reindeer
DESCRIPTION:IWCC Musical Theater: Rudolph the Red-Nosed Reindeer \nGeneral Admission: $15. Students 17 and under\, Free. IWCC Students & Staff\, Free.
URL:https://897theriver.com/event/iwcc-musical-theater-rudolph-the-red-nosed-reindeer-4/
LOCATION:The Arts Center at Iowa Western\, 2700 College Road\, Council Bluffs\, IA\, 51503\, United States
END:VEVENT
BEGIN:VEVENT
DTSTART;TZID=America/Chicago:20251115T140000
DTEND;TZID=America/Chicago:20251115T180000
DTSTAMP:20260421T014403
CREATED:20251103T163606Z
LAST-MODIFIED:20251103T163606Z
UID:10001888-1763215200-1763229600@897theriver.com
SUMMARY:IWCC Musical Theater: Rudolph the Red-Nosed Reindeer
DESCRIPTION:IWCC Musical Theater: Rudolph the Red-Nosed Reindeer \nGeneral Admission: $15. Students 17 and under\, Free. IWCC Students & Staff\, Free.
URL:https://897theriver.com/event/iwcc-musical-theater-rudolph-the-red-nosed-reindeer-3/
LOCATION:The Arts Center at Iowa Western\, 2700 College Road\, Council Bluffs\, IA\, 51503\, United States
END:VEVENT
BEGIN:VEVENT
DTSTART;TZID=America/Chicago:20251114T190000
DTEND;TZID=America/Chicago:20251114T233000
DTSTAMP:20260421T014403
CREATED:20251103T163510Z
LAST-MODIFIED:20251103T163510Z
UID:10001887-1763146800-1763163000@897theriver.com
SUMMARY:IWCC Musical Theater: Rudolph the Red-Nosed Reindeer
DESCRIPTION:IWCC Musical Theater: Rudolph the Red-Nosed Reindeer \nGeneral Admission: $15. Students 17 and under\, Free. IWCC Students & Staff\, Free.
URL:https://897theriver.com/event/iwcc-musical-theater-rudolph-the-red-nosed-reindeer-2/
LOCATION:The Arts Center at Iowa Western\, 2700 College Road\, Council Bluffs\, IA\, 51503\, United States
END:VEVENT
BEGIN:VEVENT
DTSTART;TZID=America/Chicago:20251113T190000
DTEND;TZID=America/Chicago:20251113T233000
DTSTAMP:20260421T014403
CREATED:20251103T163419Z
LAST-MODIFIED:20251103T163419Z
UID:10001886-1763060400-1763076600@897theriver.com
SUMMARY:IWCC Musical Theater: Rudolph the Red-Nosed Reindeer
DESCRIPTION:IWCC Musical Theater: Rudolph the Red-Nosed Reindeer \nGeneral Admission: $15. Students 17 and under\, Free. IWCC Students & Staff\, Free.
URL:https://897theriver.com/event/iwcc-musical-theater-rudolph-the-red-nosed-reindeer/
LOCATION:The Arts Center at Iowa Western\, 2700 College Road\, Council Bluffs\, IA\, 51503\, United States
END:VEVENT
BEGIN:VEVENT
DTSTART;TZID=America/Chicago:20251113T190000
DTEND;TZID=America/Chicago:20251113T233000
DTSTAMP:20260421T014403
CREATED:20250908T153909Z
LAST-MODIFIED:20250912T152624Z
UID:10001852-1763060400-1763076600@897theriver.com
SUMMARY:Trans-Siberian Orchestra
DESCRIPTION:The Ghosts of Christmas Eve \n\nTrans-Siberian Orchestra\n\n 
URL:https://897theriver.com/event/trans-siberian-orchestra-3/
LOCATION:Mid-America Center\, 1 Arena Way\, Council Bluffs\, NE\, 51501\, United States
END:VEVENT
BEGIN:VEVENT
DTSTART;TZID=America/Chicago:20251111T200000
DTEND;TZID=America/Chicago:20251111T233000
DTSTAMP:20260421T014403
CREATED:20250624T153055Z
LAST-MODIFIED:20250624T153055Z
UID:10001803-1762891200-1762903800@897theriver.com
SUMMARY:The Frights
DESCRIPTION:The Frights\nRemo Drive\n\nDoors: 7 pm.  Show: 8 pm
URL:https://897theriver.com/event/the-frights-2/
LOCATION:NE
END:VEVENT
BEGIN:VEVENT
DTSTART;TZID=America/Chicago:20251111T190000
DTEND;TZID=America/Chicago:20251111T233000
DTSTAMP:20260421T014403
CREATED:20250604T160040Z
LAST-MODIFIED:20250604T160040Z
UID:10001787-1762887600-1762903800@897theriver.com
SUMMARY:Zakk Sabbath
DESCRIPTION:Zakk Sabbath\nBonfire\nDark Chapel\n\nDoors: 6 pm.  Show: 7 pm
URL:https://897theriver.com/event/zakk-sabbath-2/
LOCATION:The Bourbon Theatre\, 1415 O St\, Lincoln\, NE\, 68508\, United States
END:VEVENT
BEGIN:VEVENT
DTSTART;TZID=America/Chicago:20251109T200000
DTEND;TZID=America/Chicago:20251109T233000
DTSTAMP:20260421T014403
CREATED:20250711T184346Z
LAST-MODIFIED:20250711T184346Z
UID:10001824-1762718400-1762731000@897theriver.com
SUMMARY:The Faint
DESCRIPTION:The Faint\nHercules & Love Affair\n\nDoors: 7 pm.  Show: 8 pm
URL:https://897theriver.com/event/the-faint-2/
LOCATION:The Admiral Theater\, 2234 S 13th St\, Omaha\, NE\, 68108\, United States
END:VEVENT
BEGIN:VEVENT
DTSTART;TZID=America/Chicago:20251107T200000
DTEND;TZID=America/Chicago:20251107T233000
DTSTAMP:20260421T014403
CREATED:20250610T211809Z
LAST-MODIFIED:20250620T154653Z
UID:10001792-1762545600-1762558200@897theriver.com
SUMMARY:YES
DESCRIPTION:The Fragile 2025 Tour \n\nYES\n\nDoors: 7 pm.  Show: 8 pm \n 
URL:https://897theriver.com/event/yes/
LOCATION:Steelhouse Omaha\, 1100 Dodge St.\, Omaha\, 68102\, United States
END:VEVENT
BEGIN:VEVENT
DTSTART;TZID=America/Chicago:20251107T170000
DTEND;TZID=America/Chicago:20251108T230000
DTSTAMP:20260421T014403
CREATED:20251104T195411Z
LAST-MODIFIED:20251104T195411Z
UID:10001892-1762534800-1762642800@897theriver.com
SUMMARY:Malvern Country Music Gathering
DESCRIPTION:Malvern Country Music Gathering (moved to Mineola\, IA Community Center) \nOld Time\, Traditional\, Country\, Bluegrass\, Hillbilly\, Mountain\, Irish\, and other styles of music will be on display \nFriday\, November 7th \n\n5 pm: Doors\n5:30 pm: Potluck\n7 pm – 11 pm: Open Stage Jam Show (Acoustic & Electric\n\nSaturday\, November 8th \n\n10 am: Doors\n10 am – 5:45 pm: Open Stage Jam Show (Acoustic & Electric)\n6 pm: Veteran’s Day Tribute\n6:45 pm – 11 pm: Open Stage Jam Show (Acoustic & Electric)\n\nDonations: $3 for Friday night\, $4 for all day Saturday.  Children under 6 Free.
URL:https://897theriver.com/event/malvern-country-music-gathering-4/
LOCATION:Mineola Iowa Community Center\, 404 Main St.\, Mineola\, IA\, 51554\, United States
END:VEVENT
BEGIN:VEVENT
DTSTART;TZID=America/Chicago:20251106T190000
DTEND;TZID=America/Chicago:20251106T233000
DTSTAMP:20260421T014403
CREATED:20250624T181101Z
LAST-MODIFIED:20250624T181101Z
UID:10001806-1762455600-1762471800@897theriver.com
SUMMARY:GWAR
DESCRIPTION:GWAR\nHelmet\nThe Dwarves\nBlood Vulture\n\nDoors: 6 pm.  Show: 7 pm
URL:https://897theriver.com/event/gwar-3/
LOCATION:The Bourbon Theatre\, 1415 O St\, Lincoln\, NE\, 68508\, United States
END:VEVENT
BEGIN:VEVENT
DTSTART;TZID=America/Chicago:20251103T200000
DTEND;TZID=America/Chicago:20251103T233000
DTSTAMP:20260421T014403
CREATED:20250505T185312Z
LAST-MODIFIED:20250509T152140Z
UID:10001757-1762200000-1762212600@897theriver.com
SUMMARY:Kevin Gates
DESCRIPTION:The Amilio Tour \n\nKevin Gates\n\nDoors: 7 pm.  Show: 8 pm \n  \n 
URL:https://897theriver.com/event/kevin-gates/
LOCATION:Astro Theater\, 8302 City Centre Dr.\, La Vista\, NE\, 68128\, United States
END:VEVENT
BEGIN:VEVENT
DTSTART;TZID=America/Chicago:20251102T170000
DTEND;TZID=America/Chicago:20251102T233000
DTSTAMP:20260421T014403
CREATED:20250811T162835Z
LAST-MODIFIED:20250811T162835Z
UID:10001838-1762102800-1762126200@897theriver.com
SUMMARY:Rehab
DESCRIPTION:Rehab\nHed PE\nPistols at Dawn\nEmbers Rise\nTrash Pandas\n\n 
URL:https://897theriver.com/event/rehab/
LOCATION:The Bourbon Theatre\, 1415 O St\, Lincoln\, NE\, 68508\, United States
END:VEVENT
BEGIN:VEVENT
DTSTART;TZID=America/Chicago:20251101T200000
DTEND;TZID=America/Chicago:20251101T233000
DTSTAMP:20260421T014403
CREATED:20250715T154301Z
LAST-MODIFIED:20251031T153226Z
UID:10001825-1762027200-1762039800@897theriver.com
SUMMARY:Blue October
DESCRIPTION:We Didn’t Die Young Tour \n\nBlue October\nJames and the Cold Gun\n\nDoors: 7 pm.  Show: 8 pm \n  \n 
URL:https://897theriver.com/event/blue-october-2/
LOCATION:Astro Theater\, 8302 City Centre Dr.\, La Vista\, NE\, 68128\, United States
ATTACH;FMTTYPE=image/png:https://897theriver.com/wp-content/uploads/2025/07/thumbnail_Artboard-1.png
END:VEVENT
BEGIN:VEVENT
DTSTART;TZID=America/Chicago:20251101T183000
DTEND;TZID=America/Chicago:20251101T233000
DTSTAMP:20260421T014403
CREATED:20250811T162608Z
LAST-MODIFIED:20250811T162608Z
UID:10001837-1762021800-1762039800@897theriver.com
SUMMARY:Crobot
DESCRIPTION:Crobot\nThe Atomic Bitchwax\nEvil Shadows\nTwisted Chrome\nHexxer\n\nDoors: 6 pm.  Show: 6:30 pm
URL:https://897theriver.com/event/crobot/
LOCATION:The Bourbon Theatre\, 1415 O St\, Lincoln\, NE\, 68508\, United States
END:VEVENT
BEGIN:VEVENT
DTSTART;TZID=America/Chicago:20251031T190000
DTEND;TZID=America/Chicago:20251031T233000
DTSTAMP:20260421T014403
CREATED:20250915T193948Z
LAST-MODIFIED:20250915T193948Z
UID:10001858-1761937200-1761953400@897theriver.com
SUMMARY:Seether
DESCRIPTION:Seether\nDaughtry\nP.O.D.\nKami Kehoe
URL:https://897theriver.com/event/seether/
LOCATION:Midland Theatre\, 1228 Main St.\, Kansas City\, MO\, 64105\, United States
END:VEVENT
BEGIN:VEVENT
DTSTART;TZID=America/Chicago:20251031T180000
DTEND;TZID=America/Chicago:20251031T233000
DTSTAMP:20260421T014403
CREATED:20250603T161244Z
LAST-MODIFIED:20250608T201228Z
UID:10001782-1761933600-1761953400@897theriver.com
SUMMARY:A Day To Remember & Yellowcard
DESCRIPTION:Maximum Fun Tour \n\nA Day To Remember\nYellowcard\nThe Wonder Years\nDinosaur Pile Up\n\nShow: 6:15 pm \n  \n 
URL:https://897theriver.com/event/a-day-to-remember-yellowcard/
LOCATION:Pinnacle Bank Arena\, 400 Pinnacle Arena Dr\, Lincoln\, NE\, 68508\, United States
ATTACH;FMTTYPE=image/jpeg:https://897theriver.com/wp-content/uploads/2025/06/thumbnail_ADTR-2025.jpg
END:VEVENT
BEGIN:VEVENT
DTSTART;TZID=America/Chicago:20251028T200000
DTEND;TZID=America/Chicago:20251028T233000
DTSTAMP:20260421T014403
CREATED:20250623T162938Z
LAST-MODIFIED:20250711T184654Z
UID:10001800-1761681600-1761694200@897theriver.com
SUMMARY:Maroon 5
DESCRIPTION:Love Is Like Tour \n\nMaroon 5\nClaire Rosinkranz\n\n 
URL:https://897theriver.com/event/maroon-5-2/
LOCATION:Pinnacle Bank Arena\, 400 Pinnacle Arena Dr\, Lincoln\, NE\, 68508\, United States
END:VEVENT
BEGIN:VEVENT
DTSTART;TZID=America/Chicago:20251026T200000
DTEND;TZID=America/Chicago:20251026T233000
DTSTAMP:20260421T014403
CREATED:20250818T193605Z
LAST-MODIFIED:20250818T193605Z
UID:10001844-1761508800-1761521400@897theriver.com
SUMMARY:Sir Chloe
DESCRIPTION:Sir Chloe\nVenus & The Flytraps\n\nDoors: 7 pm.  Show: 8 pm
URL:https://897theriver.com/event/sir-chloe/
LOCATION:Slowdown\, 729 N 14th St\, Omaha\, NE\, 68102\, United States
END:VEVENT
BEGIN:VEVENT
DTSTART;TZID=America/Chicago:20251026T200000
DTEND;TZID=America/Chicago:20251026T233000
DTSTAMP:20260421T014403
CREATED:20250604T154135Z
LAST-MODIFIED:20250604T154135Z
UID:10001785-1761508800-1761521400@897theriver.com
SUMMARY:T-Pain
DESCRIPTION:TP20: Celebrating 20 Years of T-Pain \n\nT-Pain\nEarthgang
URL:https://897theriver.com/event/t-pain/
LOCATION:Pinnacle Bank Arena\, 400 Pinnacle Arena Dr\, Lincoln\, NE\, 68508\, United States
END:VEVENT
BEGIN:VEVENT
DTSTART;TZID=America/Chicago:20251026T193000
DTEND;TZID=America/Chicago:20251026T233000
DTSTAMP:20260421T014403
CREATED:20250331T154756Z
LAST-MODIFIED:20250404T154423Z
UID:10001722-1761507000-1761521400@897theriver.com
SUMMARY:Mumford & Sons
DESCRIPTION:2025 Tour \n\nMumford & Sons\nSierra Ferrell\n\n 
URL:https://897theriver.com/event/mumford-sons/
LOCATION:CHI Health Center\, 455 N 10th St\, Omaha\, NE\, 68102\, United States
END:VEVENT
BEGIN:VEVENT
DTSTART;TZID=America/Chicago:20251024T193000
DTEND;TZID=America/Chicago:20251024T233000
DTSTAMP:20260421T014403
CREATED:20250922T152437Z
LAST-MODIFIED:20250922T152437Z
UID:10001866-1761334200-1761348600@897theriver.com
SUMMARY:The Life and Music of George Michael
DESCRIPTION:The Life and Music of George Michael \nThe Life and Music of George Michael is a brand new concert-style show that chronicles the amazing journey George Michael had with music and his fans. The show captures the performance and sound of the iconic artist with staging and lighting while telling his story through early music hits from Wham! And his illustrious solo career.
URL:https://897theriver.com/event/the-life-and-music-of-george-michael/
LOCATION:Holland Center\, 1200 Douglas St\, Omaha\, NE\, 68102\, United States
END:VEVENT
END:VCALENDAR