BEGIN:VCALENDAR
VERSION:2.0
PRODID:-//89.7 The River - ECPv6.15.20//NONSGML v1.0//EN
CALSCALE:GREGORIAN
METHOD:PUBLISH
X-ORIGINAL-URL:https://897theriver.com
X-WR-CALDESC:Events for 89.7 The River
REFRESH-INTERVAL;VALUE=DURATION:PT1H
X-Robots-Tag:noindex
X-PUBLISHED-TTL:PT1H
BEGIN:VTIMEZONE
TZID:America/Chicago
BEGIN:DAYLIGHT
TZOFFSETFROM:-0600
TZOFFSETTO:-0500
TZNAME:CDT
DTSTART:20230312T080000
END:DAYLIGHT
BEGIN:STANDARD
TZOFFSETFROM:-0500
TZOFFSETTO:-0600
TZNAME:CST
DTSTART:20231105T070000
END:STANDARD
BEGIN:DAYLIGHT
TZOFFSETFROM:-0600
TZOFFSETTO:-0500
TZNAME:CDT
DTSTART:20240310T080000
END:DAYLIGHT
BEGIN:STANDARD
TZOFFSETFROM:-0500
TZOFFSETTO:-0600
TZNAME:CST
DTSTART:20241103T070000
END:STANDARD
BEGIN:DAYLIGHT
TZOFFSETFROM:-0600
TZOFFSETTO:-0500
TZNAME:CDT
DTSTART:20250309T080000
END:DAYLIGHT
BEGIN:STANDARD
TZOFFSETFROM:-0500
TZOFFSETTO:-0600
TZNAME:CST
DTSTART:20251102T070000
END:STANDARD
END:VTIMEZONE
BEGIN:VEVENT
DTSTART;TZID=America/Chicago:20240721T193000
DTEND;TZID=America/Chicago:20240721T233000
DTSTAMP:20260419T190411
CREATED:20240221T163724Z
LAST-MODIFIED:20240223T173951Z
UID:10001348-1721590200-1721604600@897theriver.com
SUMMARY:Straight No Chaser
DESCRIPTION:Summer: The 90’s \n\nStraight No Chaser\nLisa Loeb\n\nDoors: 6:30 pm.  Show: 7:30 pm \n 
URL:https://897theriver.com/event/straight-no-chaser/
LOCATION:The Astro Amphitheater\, 8302 City Centre Dr.\, La Vista\, NE\, 68128\, United States
END:VEVENT
BEGIN:VEVENT
DTSTART;TZID=America/Chicago:20240721T193000
DTEND;TZID=America/Chicago:20240721T233000
DTSTAMP:20260419T190412
CREATED:20240416T161640Z
LAST-MODIFIED:20240419T154600Z
UID:10001414-1721590200-1721604600@897theriver.com
SUMMARY:Chevelle
DESCRIPTION:Chevelle\nTigercub\n\nDoors: 6:30 pm.  Show: 7:30 pm \n 
URL:https://897theriver.com/event/chevelle/
LOCATION:Steelhouse Omaha\, 1100 Dodge St.\, Omaha\, 68102\, United States
END:VEVENT
BEGIN:VEVENT
DTSTART;TZID=America/Chicago:20240723T170000
DTEND;TZID=America/Chicago:20240723T233000
DTSTAMP:20260419T190412
CREATED:20240408T152659Z
LAST-MODIFIED:20240412T152525Z
UID:10001402-1721754000-1721777400@897theriver.com
SUMMARY:The Offspring
DESCRIPTION:River Summer Bash \n\nThe Offspring\nThe Urge\nSave Ferris\nStratejacket\n\nGates: 4:30 pm.  Show: 5:15 pm \n  \n 
URL:https://897theriver.com/event/the-offspring/
LOCATION:The Astro Amphitheater\, 8302 City Centre Dr.\, La Vista\, NE\, 68128\, United States
ATTACH;FMTTYPE=image/jpeg:https://897theriver.com/wp-content/uploads/2024/04/RiverSummerBash_TheOffspring_TheAstroAmphitheater_1920x1080-1-1.jpg
END:VEVENT
BEGIN:VEVENT
DTSTART;TZID=America/Chicago:20240723T180000
DTEND;TZID=America/Chicago:20240723T233000
DTSTAMP:20260419T190412
CREATED:20240216T163444Z
LAST-MODIFIED:20240223T174034Z
UID:10001344-1721757600-1721777400@897theriver.com
SUMMARY:Vampire Weekend
DESCRIPTION:Only God Was Above Us Tour \n\nVampire Weekend\nRa Ra Riot\n\n 
URL:https://897theriver.com/event/vampire-weekend/
LOCATION:Pinewood Bowl Amphitheater\, 3201 S Coddington Ave\, Lincoln\, NE\, 68522\, United States
ATTACH;FMTTYPE=image/jpeg:https://897theriver.com/wp-content/uploads/2024/02/Vampire-Weekend-2024-Website.jpg
END:VEVENT
BEGIN:VEVENT
DTSTART;TZID=America/Chicago:20240723T200000
DTEND;TZID=America/Chicago:20240723T233000
DTSTAMP:20260419T190412
CREATED:20240419T155041Z
LAST-MODIFIED:20240426T152030Z
UID:10001416-1721764800-1721777400@897theriver.com
SUMMARY:Maren Morris
DESCRIPTION:RSVP Redux Tour \n\nMaren Morris\n\nDoors: 7 pm.  Show: 8 pm \n 
URL:https://897theriver.com/event/maren-morris/
LOCATION:Steelhouse Omaha\, 1100 Dodge St.\, Omaha\, 68102\, United States
END:VEVENT
BEGIN:VEVENT
DTSTART;TZID=America/Chicago:20240724T173000
DTEND;TZID=America/Chicago:20240724T230000
DTSTAMP:20260419T190412
CREATED:20240319T145225Z
LAST-MODIFIED:20240724T153727Z
UID:10001381-1721842200-1721862000@897theriver.com
SUMMARY:A Day To Remember
DESCRIPTION:The Least Anticipated Album Tour: \n\nA Day To Remember\nThe Story So Far\nFour Year Strong\nScowl\n\nDoors: 5 pm.  Show: 5:45 pm
URL:https://897theriver.com/event/a-day-to-remember/
LOCATION:The Astro Amphitheater\, 8302 City Centre Dr.\, La Vista\, NE\, 68128\, United States
ATTACH;FMTTYPE=image/jpeg:https://897theriver.com/wp-content/uploads/2024/03/A-Day-To-Remember-The-Astro-Amphitheater.jpg
END:VEVENT
BEGIN:VEVENT
DTSTART;TZID=America/Chicago:20240724T193000
DTEND;TZID=America/Chicago:20240724T233000
DTSTAMP:20260419T190412
CREATED:20231023T152546Z
LAST-MODIFIED:20231027T163808Z
UID:10001207-1721849400-1721863800@897theriver.com
SUMMARY:Jason Mraz & The Superband
DESCRIPTION:The Mystical Magical Rhythmical Radical Ride \n\nJason Mraz & The Superband\n\n 
URL:https://897theriver.com/event/jason-mraz-the-superband/
LOCATION:Pinewood Bowl Amphitheater\, 3201 S Coddington Ave\, Lincoln\, NE\, 68522\, United States
ATTACH;FMTTYPE=image/jpeg:https://897theriver.com/wp-content/uploads/2023/10/thumbnail_Jason-Mraz-2024-Square.jpg
END:VEVENT
BEGIN:VEVENT
DTSTART;TZID=America/Chicago:20240724T200000
DTEND;TZID=America/Chicago:20240724T233000
DTSTAMP:20260419T190412
CREATED:20240312T160229Z
LAST-MODIFIED:20240723T165219Z
UID:10001378-1721851200-1721863800@897theriver.com
SUMMARY:Collective Soul (Postponed)
DESCRIPTION:30th Anniversary \n\nCollective Soul\n\nDoors: 7 pm.  Show: 8 pm \nDue to a medical reason within the Collective Soul touring party\, the 7/24 Omaha\, NE show has been postponed. Please hold on to your tickets and stay tuned for the new rescheduled date. \n 
URL:https://897theriver.com/event/collective-soul/
LOCATION:Steelhouse Omaha\, 1100 Dodge St.\, Omaha\, 68102\, United States
ATTACH;FMTTYPE=image/jpeg:https://897theriver.com/wp-content/uploads/2024/03/thumbnail_Collective-Soul-Steelhouse-2024.jpg
END:VEVENT
BEGIN:VEVENT
DTSTART;TZID=America/Chicago:20240726T190000
DTEND;TZID=America/Chicago:20240726T233000
DTSTAMP:20260419T190412
CREATED:20240202T191924Z
LAST-MODIFIED:20240212T172517Z
UID:10001327-1722020400-1722036600@897theriver.com
SUMMARY:Luke Bryan
DESCRIPTION:Mind of a Country Boy Tour 2024 \n\nLuke Bryan\nDillon Carmichael\nLarry Fleet\nAlana Springsteen\nDJ Rock\n\n 
URL:https://897theriver.com/event/luke-bryan/
LOCATION:CHI Health Center\, 455 N 10th St\, Omaha\, NE\, 68102\, United States
END:VEVENT
BEGIN:VEVENT
DTSTART;TZID=America/Chicago:20240728T180000
DTEND;TZID=America/Chicago:20240728T233000
DTSTAMP:20260419T190412
CREATED:20240220T172204Z
LAST-MODIFIED:20240223T174100Z
UID:10001347-1722189600-1722209400@897theriver.com
SUMMARY:Primus and Coheed And Cambria
DESCRIPTION:Primus\nCoheed And Cambria\nToo Many Zooz\n\nDoors: 5 pm.  Show: 6 pm \n 
URL:https://897theriver.com/event/primus-and-coheed-and-cambria/
LOCATION:The Astro Amphitheater\, 8302 City Centre Dr.\, La Vista\, NE\, 68128\, United States
ATTACH;FMTTYPE=image/jpeg:https://897theriver.com/wp-content/uploads/2024/02/thumbnail_Primus-Coheed-and-Cambria-Astro-Amp-2024.jpg
END:VEVENT
BEGIN:VEVENT
DTSTART;TZID=America/Chicago:20240729T180000
DTEND;TZID=America/Chicago:20240729T233000
DTSTAMP:20260419T190412
CREATED:20240311T151139Z
LAST-MODIFIED:20240311T151149Z
UID:10001372-1722276000-1722295800@897theriver.com
SUMMARY:Tedeschi Trucks Band
DESCRIPTION:Deuces Wild 2024 \n\nTedeschi Trucks Band\nMargo Price\n\nGates: 5 pm.  Show: 6 pm
URL:https://897theriver.com/event/tedeschi-trucks-band-2/
LOCATION:The Astro Amphitheater\, 8302 City Centre Dr.\, La Vista\, NE\, 68128\, United States
END:VEVENT
BEGIN:VEVENT
DTSTART;TZID=America/Chicago:20240729T200000
DTEND;TZID=America/Chicago:20240729T233000
DTSTAMP:20260419T190412
CREATED:20240610T153853Z
LAST-MODIFIED:20240610T153853Z
UID:10001470-1722283200-1722295800@897theriver.com
SUMMARY:David Cross (Night One)
DESCRIPTION:An Evening With David Cross \n\nDavid Cross\n\nDoors: 7 pm Show: 8 pm \n18+
URL:https://897theriver.com/event/david-cross-night-one/
LOCATION:The Waiting Room\, 6212 Maple St\, Omaha\, NE\, 68104\, United States
END:VEVENT
BEGIN:VEVENT
DTSTART;TZID=America/Chicago:20240730T190000
DTEND;TZID=America/Chicago:20240730T233000
DTSTAMP:20260419T190412
CREATED:20240130T163418Z
LAST-MODIFIED:20240202T164801Z
UID:10001322-1722366000-1722382200@897theriver.com
SUMMARY:Barry Manilow
DESCRIPTION:Manilow:  The Last Omaha Concert \n\nBarry Manilow\n\n 
URL:https://897theriver.com/event/barry-manilow/
LOCATION:CHI Health Center\, 455 N 10th St\, Omaha\, NE\, 68102\, United States
END:VEVENT
BEGIN:VEVENT
DTSTART;TZID=America/Chicago:20240730T200000
DTEND;TZID=America/Chicago:20240730T233000
DTSTAMP:20260419T190412
CREATED:20240610T154000Z
LAST-MODIFIED:20240610T154000Z
UID:10001471-1722369600-1722382200@897theriver.com
SUMMARY:David Cross (Night Two)
DESCRIPTION:An Evening With David Cross \n\nDavid Cross\n\nDoors: 7 pm Show: 8 pm \n18+
URL:https://897theriver.com/event/david-cross-night-two/
LOCATION:The Waiting Room\, 6212 Maple St\, Omaha\, NE\, 68104\, United States
END:VEVENT
BEGIN:VEVENT
DTSTART;TZID=America/Chicago:20240802T080000
DTEND;TZID=America/Chicago:20240804T170000
DTSTAMP:20260419T190412
CREATED:20240116T173436Z
LAST-MODIFIED:20240116T173436Z
UID:10001299-1722585600-1722790800@897theriver.com
SUMMARY:Hinterland
DESCRIPTION:Hinterland \n\nHozier\nVampire Weekend\nNoah Kahan\nLizzy McAlpine\nMt. Joy\nOrville Peck\nHippo Campus\nCharley Crocket\n…and many more\n\nGate and set times TBA
URL:https://897theriver.com/event/hinterland/
LOCATION:Avenue of the Saints Amphitheater and Event Center\, 3357 St Charles Rd\, St Charles\, IA\, 50240\, United States
END:VEVENT
BEGIN:VEVENT
DTSTART;TZID=America/Chicago:20240802T180000
DTEND;TZID=America/Chicago:20240802T233000
DTSTAMP:20260419T190412
CREATED:20240401T154507Z
LAST-MODIFIED:20240802T154004Z
UID:10001395-1722621600-1722641400@897theriver.com
SUMMARY:idobi Summer School (Canceled)
DESCRIPTION:idobi Summer School \n\nMagnolia Park\nStand Atlantic\nThe Home Team\nScene Queen\nHoney Revenge\nLetdown\n\nNotice:  This show has been canceled.  Tickets refundable at original point of purchase. \n  \n 
URL:https://897theriver.com/event/idobi-summer-school/
LOCATION:The Admiral Theater\, 2234 S 13th St\, Omaha\, NE\, 68108\, United States
ATTACH;FMTTYPE=image/jpeg:https://897theriver.com/wp-content/uploads/2024/04/thumbnail_Summer-School-TheAdmiral.jpg
END:VEVENT
BEGIN:VEVENT
DTSTART;TZID=America/Chicago:20240802T183000
DTEND;TZID=America/Chicago:20240802T233000
DTSTAMP:20260419T190412
CREATED:20240311T150912Z
LAST-MODIFIED:20240315T152924Z
UID:10001371-1722623400-1722641400@897theriver.com
SUMMARY:Gin Blossoms & Toad The Wet Sprocket
DESCRIPTION:Gin Blossoms\nToad The Wet Sprocket\nVertical Horizon\n\nGates: 5:30 pm.  Show: 6:30 pm \n 
URL:https://897theriver.com/event/gin-blossoms-toad-the-wet-sprocket/
LOCATION:The Astro Amphitheater\, 8302 City Centre Dr.\, La Vista\, NE\, 68128\, United States
ATTACH;FMTTYPE=image/jpeg:https://897theriver.com/wp-content/uploads/2024/03/thumbnail_Gin-Blossoms-at-The-Astro-Amphitheater-2024.jpg
END:VEVENT
BEGIN:VEVENT
DTSTART;TZID=America/Chicago:20240802T200000
DTEND;TZID=America/Chicago:20240802T233000
DTSTAMP:20260419T190412
CREATED:20240501T161229Z
LAST-MODIFIED:20240503T151511Z
UID:10001433-1722628800-1722641400@897theriver.com
SUMMARY:Elle King
DESCRIPTION:Elle King\n\nDoors: 7 pm.  Show: 8 pm \n 
URL:https://897theriver.com/event/elle-king/
LOCATION:Steelhouse Omaha\, 1100 Dodge St.\, Omaha\, 68102\, United States
END:VEVENT
BEGIN:VEVENT
DTSTART;TZID=America/Chicago:20240803T200000
DTEND;TZID=America/Chicago:20240803T233000
DTSTAMP:20260419T190412
CREATED:20240405T153036Z
LAST-MODIFIED:20240802T221957Z
UID:10001400-1722715200-1722727800@897theriver.com
SUMMARY:Orville Peck (moved from The Admiral to the Astro Theater)
DESCRIPTION:Stampede Tour \n\nOrville Peck\nJaime Wyatt\nGold Star\n\nDoors: 7 pm.  Show: 8 pm
URL:https://897theriver.com/event/orville-peck-2/
LOCATION:Astro Theater\, 8302 City Centre Dr.\, La Vista\, NE\, 68128\, United States
END:VEVENT
BEGIN:VEVENT
DTSTART;TZID=America/Chicago:20240804T200000
DTEND;TZID=America/Chicago:20240804T233000
DTSTAMP:20260419T190412
CREATED:20240312T155913Z
LAST-MODIFIED:20240315T153012Z
UID:10001377-1722801600-1722814200@897theriver.com
SUMMARY:Charley Crockett
DESCRIPTION:$10 Cowboy Tour \n\nCharley Crockett\n\nDoors: 6 pm. Show: 8 pm \n 
URL:https://897theriver.com/event/charley-crockett-2/
LOCATION:Steelhouse Omaha\, 1100 Dodge St.\, Omaha\, 68102\, United States
ATTACH;FMTTYPE=image/jpeg:https://897theriver.com/wp-content/uploads/2024/03/thumbnail_Charley-Crockett-Steelhouse-2024.jpg
END:VEVENT
BEGIN:VEVENT
DTSTART;TZID=America/Chicago:20240806T200000
DTEND;TZID=America/Chicago:20240806T233000
DTSTAMP:20260419T190412
CREATED:20240220T171420Z
LAST-MODIFIED:20240301T162618Z
UID:10001346-1722974400-1722987000@897theriver.com
SUMMARY:Peso Pluma
DESCRIPTION:Exodo Tour \n\nPeso Pluma\n\n 
URL:https://897theriver.com/event/peso-pluma/
LOCATION:CHI Health Center\, 455 N 10th St\, Omaha\, NE\, 68102\, United States
END:VEVENT
BEGIN:VEVENT
DTSTART;TZID=America/Chicago:20240807T190000
DTEND;TZID=America/Chicago:20240807T233000
DTSTAMP:20260419T190412
CREATED:20240116T180052Z
LAST-MODIFIED:20240119T163521Z
UID:10001300-1723057200-1723073400@897theriver.com
SUMMARY:Melissa Etheridge & Jewel
DESCRIPTION:Melissa Etheridge\nJewel\n\nDoors: 5:30 pm.  Show: 7 pm \n 
URL:https://897theriver.com/event/melissa-etheridge-jewel/
LOCATION:The Astro Amphitheater\, 8302 City Centre Dr.\, La Vista\, NE\, 68128\, United States
ATTACH;FMTTYPE=image/jpeg:https://897theriver.com/wp-content/uploads/2024/01/Melissa-Etheridge-and-Jewel-Astro-Amp-2024-scaled.jpg
END:VEVENT
BEGIN:VEVENT
DTSTART;TZID=America/Chicago:20240808T200000
DTEND;TZID=America/Chicago:20240808T233000
DTSTAMP:20260419T190412
CREATED:20240712T223433Z
LAST-MODIFIED:20240712T223433Z
UID:10001506-1723147200-1723159800@897theriver.com
SUMMARY:Dream Aura
DESCRIPTION:Local Bites Live \n\nDream Aura\nOut In Front\nWake Sessions\nThe Ivory Claws\n\nDoors: 7 pm.  Show: 8 pm \nFREE SHOW!
URL:https://897theriver.com/event/dream-aura/
LOCATION:The Waiting Room\, 6212 Maple St\, Omaha\, NE\, 68104\, United States
ATTACH;FMTTYPE=image/jpeg:https://897theriver.com/wp-content/uploads/2024/07/450902295_1005034171625031_7171323547357540074_n.jpg
END:VEVENT
BEGIN:VEVENT
DTSTART;TZID=America/Chicago:20240809T080000
DTEND;TZID=America/Chicago:20240810T233000
DTSTAMP:20260419T190412
CREATED:20240328T231410Z
LAST-MODIFIED:20240724T182144Z
UID:10001394-1723190400-1723332600@897theriver.com
SUMMARY:Outlandia Music Festival
DESCRIPTION:Outlandia Music Festival \nFriday:  \n\nThe Faint DJ Afterparty (Midnight)\nThe Flaming Lips (10:30 pm)\nMen I Trust (9 pm)\nThe Faint (7:30 pm)\nVacations (6:15 pm)\nTwinsmith (5 pm)\nEx Lover (4 pm)\n\nSaturday: \n\nThe Head and The Heart (10:30 pm)\nThe Revivalists (9 pm)\nDinosaur Jr. (7:30 pm)\nFlipturn (6 pm)\nBuffalo Tom (4:45 pm)\nDevotchka (3:30 pm)\nKelsey Waldon (2:15 pm)\nThe Eye (1 pm)\n\n 
URL:https://897theriver.com/event/outlandia-music-festival-3/
LOCATION:Falconwood Park\, 905 Allied Rd\, Bellevue\, NE\, 68123\, United States
ATTACH;FMTTYPE=image/jpeg:https://897theriver.com/wp-content/uploads/2024/03/420512527_432629309321075_2579261612645812399_n-1.jpg
END:VEVENT
BEGIN:VEVENT
DTSTART;TZID=America/Chicago:20240809T183000
DTEND;TZID=America/Chicago:20240809T233000
DTSTAMP:20260419T190412
CREATED:20240304T225708Z
LAST-MODIFIED:20240308T170529Z
UID:10001368-1723228200-1723246200@897theriver.com
SUMMARY:Dwight Yoakam
DESCRIPTION:Dwight Yoakam\nThe Mavericks\n\n 
URL:https://897theriver.com/event/dwight-yoakam/
LOCATION:Pinewood Bowl Amphitheater\, 3201 S Coddington Ave\, Lincoln\, NE\, 68522\, United States
END:VEVENT
BEGIN:VEVENT
DTSTART;TZID=America/Chicago:20240809T200000
DTEND;TZID=America/Chicago:20240809T233000
DTSTAMP:20260419T190412
CREATED:20240227T221813Z
LAST-MODIFIED:20240227T221813Z
UID:10001356-1723233600-1723246200@897theriver.com
SUMMARY:Graham Nash
DESCRIPTION:More Evenings of Songs and Stories \n\nGraham Nash
URL:https://897theriver.com/event/graham-nash/
LOCATION:Holland Center\, 1200 Douglas St\, Omaha\, NE\, 68102\, United States
END:VEVENT
BEGIN:VEVENT
DTSTART;TZID=America/Chicago:20240809T200000
DTEND;TZID=America/Chicago:20240809T233000
DTSTAMP:20260419T190412
CREATED:20240529T160325Z
LAST-MODIFIED:20240604T183107Z
UID:10001453-1723233600-1723246200@897theriver.com
SUMMARY:Lee Brice
DESCRIPTION:Lee Brice\n\nDoors: 7 pm.  Show: 8 pm \n 
URL:https://897theriver.com/event/lee-brice/
LOCATION:Steelhouse Omaha\, 1100 Dodge St.\, Omaha\, 68102\, United States
END:VEVENT
BEGIN:VEVENT
DTSTART;TZID=America/Chicago:20240810T190000
DTEND;TZID=America/Chicago:20240810T233000
DTSTAMP:20260419T190412
CREATED:20240328T193213Z
LAST-MODIFIED:20240329T153406Z
UID:10001393-1723316400-1723332600@897theriver.com
SUMMARY:Sugar Ray & Friends
DESCRIPTION:Sugar Ray & Friends \n\nSugar Ray\nBetter Than Ezra\nTonic\n\nDoors; 5 pm.  Show: 7 pm \nAll ages \n 
URL:https://897theriver.com/event/sugar-ray-friends/
LOCATION:The Club At Indian Creek\, 3525 N. 202nd St.\, Elkhorn\, NE\, 68022\, United States
END:VEVENT
BEGIN:VEVENT
DTSTART;TZID=America/Chicago:20240810T200000
DTEND;TZID=America/Chicago:20240810T233000
DTSTAMP:20260419T190412
CREATED:20240508T154705Z
LAST-MODIFIED:20240508T154705Z
UID:10001442-1723320000-1723332600@897theriver.com
SUMMARY:Banda MS
DESCRIPTION:Banda MS
URL:https://897theriver.com/event/banda-ms/
LOCATION:Stir Cove\, Harrah’s Casino\, 1 Harrah's Blvd\, Council Bluffs\, IA\, 51501\, United States
END:VEVENT
BEGIN:VEVENT
DTSTART;TZID=America/Chicago:20240811T190000
DTEND;TZID=America/Chicago:20240811T233000
DTSTAMP:20260419T190412
CREATED:20240409T161254Z
LAST-MODIFIED:20240811T220040Z
UID:10001407-1723402800-1723419000@897theriver.com
SUMMARY:John Fogerty (moved to Pinnacle Bank Arena)
DESCRIPTION:The Celebration Tour \n\nJohn Fogerty\nGeorge Thorogood & The Destroyers\nHearty Har\n\nNotice:  This show has been moved from Pinewood Bowl Amphitheater to Pinnacle Bank Arena due to possible inclement weather. \nTickets previously purchased for Pinewood Bowl will be honored at Pinnacle Bank Arena. The concert set inside Pinnacle Bank Arena will still have the reserved sections of seating configurations similar to the Pinewood Bowl seating.
URL:https://897theriver.com/event/john-fogerty/
LOCATION:Pinnacle Bank Arena\, 400 Pinnacle Arena Dr\, Lincoln\, NE\, 68508\, United States
END:VEVENT
END:VCALENDAR