BEGIN:VCALENDAR
VERSION:2.0
PRODID:-//89.7 The River - ECPv6.15.20//NONSGML v1.0//EN
CALSCALE:GREGORIAN
METHOD:PUBLISH
X-ORIGINAL-URL:https://897theriver.com
X-WR-CALDESC:Events for 89.7 The River
REFRESH-INTERVAL;VALUE=DURATION:PT1H
X-Robots-Tag:noindex
X-PUBLISHED-TTL:PT1H
BEGIN:VTIMEZONE
TZID:America/Chicago
BEGIN:DAYLIGHT
TZOFFSETFROM:-0600
TZOFFSETTO:-0500
TZNAME:CDT
DTSTART:20250309T080000
END:DAYLIGHT
BEGIN:STANDARD
TZOFFSETFROM:-0500
TZOFFSETTO:-0600
TZNAME:CST
DTSTART:20251102T070000
END:STANDARD
BEGIN:DAYLIGHT
TZOFFSETFROM:-0600
TZOFFSETTO:-0500
TZNAME:CDT
DTSTART:20260308T080000
END:DAYLIGHT
BEGIN:STANDARD
TZOFFSETFROM:-0500
TZOFFSETTO:-0600
TZNAME:CST
DTSTART:20261101T070000
END:STANDARD
BEGIN:DAYLIGHT
TZOFFSETFROM:-0600
TZOFFSETTO:-0500
TZNAME:CDT
DTSTART:20270314T080000
END:DAYLIGHT
BEGIN:STANDARD
TZOFFSETFROM:-0500
TZOFFSETTO:-0600
TZNAME:CST
DTSTART:20271107T070000
END:STANDARD
END:VTIMEZONE
BEGIN:VEVENT
DTSTART;TZID=America/Chicago:20260901T200000
DTEND;TZID=America/Chicago:20260901T233000
DTSTAMP:20260425T102446
CREATED:20260402T215835Z
LAST-MODIFIED:20260402T215835Z
UID:10002051-1788292800-1788305400@897theriver.com
SUMMARY:Benson Boone
DESCRIPTION:Wanted Man Tour \n\nBenson Boone
URL:https://897theriver.com/event/benson-boone/
LOCATION:CHI Health Center\, 455 N 10th St\, Omaha\, NE\, 68102\, United States
END:VEVENT
BEGIN:VEVENT
DTSTART;TZID=America/Chicago:20260902T200000
DTEND;TZID=America/Chicago:20260902T233000
DTSTAMP:20260425T102446
CREATED:20260402T221634Z
LAST-MODIFIED:20260402T221634Z
UID:10002052-1788379200-1788391800@897theriver.com
SUMMARY:Ugly Kid Joe
DESCRIPTION:Ugly Kid Joe\nPlatinum Moon\n\nDoors: 7 pm.  Show: 8 pm
URL:https://897theriver.com/event/ugly-kid-joe-2/
LOCATION:Slowdown\, 729 N 14th St\, Omaha\, NE\, 68102\, United States
END:VEVENT
BEGIN:VEVENT
DTSTART;TZID=America/Chicago:20260910T183000
DTEND;TZID=America/Chicago:20260910T233000
DTSTAMP:20260425T102446
CREATED:20260120T215223Z
LAST-MODIFIED:20260120T215223Z
UID:10001961-1789065000-1789083000@897theriver.com
SUMMARY:Rob Zombie & Marilyn Manson
DESCRIPTION:Rob Zombie\nMarilyn Manson\nThe Hu\nOrgy
URL:https://897theriver.com/event/rob-zombie-marilyn-manson/
LOCATION:Morton Ampthitheater\, 6150 NW Music Blvd.\, Riverside\, MO\, 64150\, United States
END:VEVENT
BEGIN:VEVENT
DTSTART;TZID=America/Chicago:20260911T170000
DTEND;TZID=America/Chicago:20260911T230000
DTSTAMP:20260425T102446
CREATED:20260120T214406Z
LAST-MODIFIED:20260305T192426Z
UID:10001960-1789146000-1789167600@897theriver.com
SUMMARY:Blues Traveler
DESCRIPTION:Shadow Ridge Music Festival \n\nBlues Traveler\nGin Blossoms\nSpin Doctors\nThe Samples\n\nGates: 5 pm.  Show: 5:20 pm \n  \n 
URL:https://897theriver.com/event/blues-traveler-4/
LOCATION:Shadow Ridge Country Club\, 1501 188th Plaza\, Omaha\, NE\, 68130\, United States
ATTACH;FMTTYPE=image/jpeg:https://897theriver.com/wp-content/uploads/2026/01/643326742_1230253215909401_8652066833932093945_n.jpg
END:VEVENT
BEGIN:VEVENT
DTSTART;TZID=America/Chicago:20260913T180000
DTEND;TZID=America/Chicago:20260913T233000
DTSTAMP:20260425T102446
CREATED:20260414T161629Z
LAST-MODIFIED:20260414T161629Z
UID:10002070-1789322400-1789342200@897theriver.com
SUMMARY:Daniel Donato's Cosmic Country
DESCRIPTION:Encore Summer Series \n\nDaniel Donato’s Cosmic Country\n\nDoors: 5  pm.  Show: 6 pm \nNOTICE: This concert is FREE\, but tickets are necessary for entry.  Secure your FREE tickets 4/17\, 10 am \nTickets are first come first served\, and do not guarantee entry
URL:https://897theriver.com/event/daniel-donatos-cosmic-country/
LOCATION:The Astro Amphitheater\, 8302 City Centre Dr.\, La Vista\, NE\, 68128\, United States
END:VEVENT
BEGIN:VEVENT
DTSTART;TZID=America/Chicago:20260917T200000
DTEND;TZID=America/Chicago:20260917T233000
DTSTAMP:20260425T102446
CREATED:20260421T153712Z
LAST-MODIFIED:20260424T152107Z
UID:10002077-1789675200-1789687800@897theriver.com
SUMMARY:Violent Femmes
DESCRIPTION:45 Years of Violent Femmes \n\nViolent Femmes\n\nDoors: 7 pm.  Show: 8 pm \n 
URL:https://897theriver.com/event/violent-femmes/
LOCATION:The Admiral Theater\, 2234 S 13th St\, Omaha\, NE\, 68108\, United States
END:VEVENT
BEGIN:VEVENT
DTSTART;TZID=America/Chicago:20260920T180000
DTEND;TZID=America/Chicago:20260920T233000
DTSTAMP:20260425T102446
CREATED:20260217T165411Z
LAST-MODIFIED:20260223T203000Z
UID:10002003-1789927200-1789947000@897theriver.com
SUMMARY:Breaking Benjamin
DESCRIPTION:Breaking Benjamin\nChevelle\nStarset\nKami Kehoe\n\nDoors: 4 pm.  Show: 6 pm \n 
URL:https://897theriver.com/event/breaking-benjamin-2/
LOCATION:Mid-America Center\, 1 Arena Way\, Council Bluffs\, NE\, 51501\, United States
ATTACH;FMTTYPE=image/jpeg:https://897theriver.com/wp-content/uploads/2026/02/c469d75f-e47c-4506-a50d-51ce6e1e84dd.jpg
END:VEVENT
BEGIN:VEVENT
DTSTART;TZID=America/Chicago:20260921T200000
DTEND;TZID=America/Chicago:20260921T233000
DTSTAMP:20260425T102446
CREATED:20260326T181725Z
LAST-MODIFIED:20260326T181725Z
UID:10002046-1790020800-1790033400@897theriver.com
SUMMARY:The New Pornographers
DESCRIPTION:The Former Site Of Tour \n\nThe New Pornographers\n\nDoors: 7 pm.  Show: 8 pm
URL:https://897theriver.com/event/the-new-pornographers-2/
LOCATION:The Waiting Room\, 6212 Maple St\, Omaha\, NE\, 68104\, United States
END:VEVENT
BEGIN:VEVENT
DTSTART;TZID=America/Chicago:20260922T190000
DTEND;TZID=America/Chicago:20260922T233000
DTSTAMP:20260425T102446
CREATED:20260209T164147Z
LAST-MODIFIED:20260213T162738Z
UID:10001985-1790103600-1790119800@897theriver.com
SUMMARY:Bilmuri
DESCRIPTION:Kinda Hard Tour \n\nBilmuri\nKnuckle Puck\n\nDoors: 6 pm.  Show: 7 pm \n 
URL:https://897theriver.com/event/bilmuri/
LOCATION:Steelhouse Omaha\, 1100 Dodge St.\, Omaha\, 68102\, United States
END:VEVENT
BEGIN:VEVENT
DTSTART;TZID=America/Chicago:20260922T193000
DTEND;TZID=America/Chicago:20260922T233000
DTSTAMP:20260425T102446
CREATED:20260407T215719Z
LAST-MODIFIED:20260407T215738Z
UID:10002058-1790105400-1790119800@897theriver.com
SUMMARY:The Format
DESCRIPTION:The Format\nThe Get Up Kids\n\nDoors: 6 pm.  Show: 7:30 pm
URL:https://897theriver.com/event/the-format/
LOCATION:Slowdown\, 729 N 14th St\, Omaha\, NE\, 68102\, United States
END:VEVENT
BEGIN:VEVENT
DTSTART;TZID=America/Chicago:20260924T190000
DTEND;TZID=America/Chicago:20260924T233000
DTSTAMP:20260425T102446
CREATED:20260212T195101Z
LAST-MODIFIED:20260212T195101Z
UID:10002000-1790276400-1790292600@897theriver.com
SUMMARY:Jefferson Starship
DESCRIPTION:Runaway Again Tour \n\nJefferson Starship\nPure Prairie League\nAtlanta Rhythm Section\nFirefall\n\nDoors: 6 pm.  Show: 7 pm
URL:https://897theriver.com/event/jefferson-starship/
LOCATION:The Astro Amphitheater\, 8302 City Centre Dr.\, La Vista\, NE\, 68128\, United States
END:VEVENT
BEGIN:VEVENT
DTSTART;TZID=America/Chicago:20260925T193000
DTEND;TZID=America/Chicago:20260925T233000
DTSTAMP:20260425T102446
CREATED:20260421T152742Z
LAST-MODIFIED:20260424T152156Z
UID:10002074-1790364600-1790379000@897theriver.com
SUMMARY:Bleachers
DESCRIPTION:Bleachers\nThis Is Lorelei\n\n 
URL:https://897theriver.com/event/bleachers-2/
LOCATION:Vibrant Music Hall\, 2938 Grand Prairie Pkwy\, Waukee\, IA\, 50263\, United States
END:VEVENT
BEGIN:VEVENT
DTSTART;TZID=America/Chicago:20260925T200000
DTEND;TZID=America/Chicago:20260925T233000
DTSTAMP:20260425T102446
CREATED:20260421T153036Z
LAST-MODIFIED:20260424T152240Z
UID:10002075-1790366400-1790379000@897theriver.com
SUMMARY:Modest Mouse
DESCRIPTION:89.7 The River Presents:  \n\nModest Mouse\n\n 
URL:https://897theriver.com/event/modest-mouse-2/
LOCATION:Astro Theater\, 8302 City Centre Dr.\, La Vista\, NE\, 68128\, United States
ATTACH;FMTTYPE=image/jpeg:https://897theriver.com/wp-content/uploads/2026/04/ed434a5b-662e-4dbe-b933-74c065272798.jpg
END:VEVENT
BEGIN:VEVENT
DTSTART;TZID=America/Chicago:20260926T193000
DTEND;TZID=America/Chicago:20260926T233000
DTSTAMP:20260425T102446
CREATED:20260421T153338Z
LAST-MODIFIED:20260424T152350Z
UID:10002076-1790451000-1790465400@897theriver.com
SUMMARY:Black Label Society
DESCRIPTION:Black Label Society\nZakk Sabbath\nDark Chapel\n\n 
URL:https://897theriver.com/event/black-label-society/
LOCATION:Stir Cove\, Harrah’s Casino\, 1 Harrah's Blvd\, Council Bluffs\, IA\, 51501\, United States
ATTACH;FMTTYPE=image/jpeg:https://897theriver.com/wp-content/uploads/2026/04/fd8cf041-705c-4460-ab2f-5e6636e9616a.jpg
END:VEVENT
BEGIN:VEVENT
DTSTART;TZID=America/Chicago:20260927T200000
DTEND;TZID=America/Chicago:20260927T233000
DTSTAMP:20260425T102446
CREATED:20260218T160849Z
LAST-MODIFIED:20260220T185055Z
UID:10002007-1790539200-1790551800@897theriver.com
SUMMARY:Juanes
DESCRIPTION:The Juanes Tour \n\nJuanes\n\nDoors: 7 pm.  Show: 8 pm \n 
URL:https://897theriver.com/event/juanes/
LOCATION:Steelhouse Omaha\, 1100 Dodge St.\, Omaha\, 68102\, United States
END:VEVENT
END:VCALENDAR