BEGIN:VCALENDAR
VERSION:2.0
PRODID:-//89.7 The River - ECPv6.15.20//NONSGML v1.0//EN
CALSCALE:GREGORIAN
METHOD:PUBLISH
X-ORIGINAL-URL:https://897theriver.com
X-WR-CALDESC:Events for 89.7 The River
REFRESH-INTERVAL;VALUE=DURATION:PT1H
X-Robots-Tag:noindex
X-PUBLISHED-TTL:PT1H
BEGIN:VTIMEZONE
TZID:America/Chicago
BEGIN:DAYLIGHT
TZOFFSETFROM:-0600
TZOFFSETTO:-0500
TZNAME:CDT
DTSTART:20250309T080000
END:DAYLIGHT
BEGIN:STANDARD
TZOFFSETFROM:-0500
TZOFFSETTO:-0600
TZNAME:CST
DTSTART:20251102T070000
END:STANDARD
BEGIN:DAYLIGHT
TZOFFSETFROM:-0600
TZOFFSETTO:-0500
TZNAME:CDT
DTSTART:20260308T080000
END:DAYLIGHT
BEGIN:STANDARD
TZOFFSETFROM:-0500
TZOFFSETTO:-0600
TZNAME:CST
DTSTART:20261101T070000
END:STANDARD
BEGIN:DAYLIGHT
TZOFFSETFROM:-0600
TZOFFSETTO:-0500
TZNAME:CDT
DTSTART:20270314T080000
END:DAYLIGHT
BEGIN:STANDARD
TZOFFSETFROM:-0500
TZOFFSETTO:-0600
TZNAME:CST
DTSTART:20271107T070000
END:STANDARD
END:VTIMEZONE
BEGIN:VEVENT
DTSTART;TZID=America/Chicago:20260730T120000
DTEND;TZID=America/Chicago:20260802T233000
DTSTAMP:20260420T065729
CREATED:20251118T171718Z
LAST-MODIFIED:20251118T171718Z
UID:10001904-1785412800-1785713400@897theriver.com
SUMMARY:Hinterland Music Festival
DESCRIPTION:Hinterland Music Festival \n\nKATSEYE\nLorde\nMumford & Sons\nKali Uchis\nbeabadoobee\nMuna\nJessie Murph\nYoung Miko\nThe Format\nWet Leg\n….and many more\n\n 
URL:https://897theriver.com/event/hinterland-music-festival-2/
LOCATION:Avenue of the Saints Amphitheater and Event Center\, 3357 St Charles Rd\, St Charles\, IA\, 50240\, United States
END:VEVENT
END:VCALENDAR