BEGIN:VCALENDAR
VERSION:2.0
PRODID:-//89.7 The River - ECPv6.15.20//NONSGML v1.0//EN
CALSCALE:GREGORIAN
METHOD:PUBLISH
X-WR-CALNAME:89.7 The River
X-ORIGINAL-URL:https://897theriver.com
X-WR-CALDESC:Events for 89.7 The River
REFRESH-INTERVAL;VALUE=DURATION:PT1H
X-Robots-Tag:noindex
X-PUBLISHED-TTL:PT1H
BEGIN:VTIMEZONE
TZID:America/Chicago
BEGIN:DAYLIGHT
TZOFFSETFROM:-0600
TZOFFSETTO:-0500
TZNAME:CDT
DTSTART:20250309T080000
END:DAYLIGHT
BEGIN:STANDARD
TZOFFSETFROM:-0500
TZOFFSETTO:-0600
TZNAME:CST
DTSTART:20251102T070000
END:STANDARD
BEGIN:DAYLIGHT
TZOFFSETFROM:-0600
TZOFFSETTO:-0500
TZNAME:CDT
DTSTART:20260308T080000
END:DAYLIGHT
BEGIN:STANDARD
TZOFFSETFROM:-0500
TZOFFSETTO:-0600
TZNAME:CST
DTSTART:20261101T070000
END:STANDARD
BEGIN:DAYLIGHT
TZOFFSETFROM:-0600
TZOFFSETTO:-0500
TZNAME:CDT
DTSTART:20270314T080000
END:DAYLIGHT
BEGIN:STANDARD
TZOFFSETFROM:-0500
TZOFFSETTO:-0600
TZNAME:CST
DTSTART:20271107T070000
END:STANDARD
END:VTIMEZONE
BEGIN:VEVENT
DTSTART;TZID=America/Chicago:20260612T190000
DTEND;TZID=America/Chicago:20260612T233000
DTSTAMP:20260421T133611
CREATED:20260202T163449Z
LAST-MODIFIED:20260206T175417Z
UID:10001978-1781290800-1781307000@897theriver.com
SUMMARY:Godsmack
DESCRIPTION:The Rise Of Rock World Tour 2026 \n\nGodsmack\nStone Temple Pilots\nDorothy\n\n 
URL:https://897theriver.com/event/godsmack-3/
LOCATION:Morton Ampthitheater\, 6150 NW Music Blvd.\, Riverside\, MO\, 64150\, United States
ATTACH;FMTTYPE=image/jpeg:https://897theriver.com/wp-content/uploads/2026/02/6efaf501-f62f-430d-9270-e374e6554e84.jpg
END:VEVENT
BEGIN:VEVENT
DTSTART;TZID=America/Chicago:20260712T190000
DTEND;TZID=America/Chicago:20260712T233000
DTSTAMP:20260421T133611
CREATED:20251201T194814Z
LAST-MODIFIED:20251205T165259Z
UID:10001912-1783882800-1783899000@897theriver.com
SUMMARY:Evanescence
DESCRIPTION:Evanescence\nSpiritbox\nNova Twins\n\n 
URL:https://897theriver.com/event/evanescence/
LOCATION:Morton Ampthitheater\, 6150 NW Music Blvd.\, Riverside\, MO\, 64150\, United States
END:VEVENT
BEGIN:VEVENT
DTSTART;TZID=America/Chicago:20260819T183000
DTEND;TZID=America/Chicago:20260819T233000
DTSTAMP:20260421T133611
CREATED:20260325T204003Z
LAST-MODIFIED:20260325T204003Z
UID:10002045-1787164200-1787182200@897theriver.com
SUMMARY:Guns N Roses
DESCRIPTION:World Tour 2026 \n\nGuns N Roses\nThe Barbarians of California\n\nShow: 6:25 pm
URL:https://897theriver.com/event/guns-n-roses/
LOCATION:Morton Ampthitheater\, 6150 NW Music Blvd.\, Riverside\, MO\, 64150\, United States
END:VEVENT
BEGIN:VEVENT
DTSTART;TZID=America/Chicago:20260910T183000
DTEND;TZID=America/Chicago:20260910T233000
DTSTAMP:20260421T133611
CREATED:20260120T215223Z
LAST-MODIFIED:20260120T215223Z
UID:10001961-1789065000-1789083000@897theriver.com
SUMMARY:Rob Zombie & Marilyn Manson
DESCRIPTION:Rob Zombie\nMarilyn Manson\nThe Hu\nOrgy
URL:https://897theriver.com/event/rob-zombie-marilyn-manson/
LOCATION:Morton Ampthitheater\, 6150 NW Music Blvd.\, Riverside\, MO\, 64150\, United States
END:VEVENT
BEGIN:VEVENT
DTSTART;TZID=America/Chicago:20261003T183000
DTEND;TZID=America/Chicago:20261003T233000
DTSTAMP:20260421T133611
CREATED:20260202T163900Z
LAST-MODIFIED:20260202T163900Z
UID:10001979-1791052200-1791070200@897theriver.com
SUMMARY:Five Finger Death Punch
DESCRIPTION:Five Finger Death Punch\nCody Jinks\nEva Under Fire\n\nShow: 6:45 pm
URL:https://897theriver.com/event/five-finger-death-punch-3/
LOCATION:Morton Ampthitheater\, 6150 NW Music Blvd.\, Riverside\, MO\, 64150\, United States
END:VEVENT
END:VCALENDAR