BEGIN:VCALENDAR
VERSION:2.0
PRODID:-//89.7 The River - ECPv6.15.20//NONSGML v1.0//EN
CALSCALE:GREGORIAN
METHOD:PUBLISH
X-WR-CALNAME:89.7 The River
X-ORIGINAL-URL:https://897theriver.com
X-WR-CALDESC:Events for 89.7 The River
REFRESH-INTERVAL;VALUE=DURATION:PT1H
X-Robots-Tag:noindex
X-PUBLISHED-TTL:PT1H
BEGIN:VTIMEZONE
TZID:America/Chicago
BEGIN:DAYLIGHT
TZOFFSETFROM:-0600
TZOFFSETTO:-0500
TZNAME:CDT
DTSTART:20250309T080000
END:DAYLIGHT
BEGIN:STANDARD
TZOFFSETFROM:-0500
TZOFFSETTO:-0600
TZNAME:CST
DTSTART:20251102T070000
END:STANDARD
BEGIN:DAYLIGHT
TZOFFSETFROM:-0600
TZOFFSETTO:-0500
TZNAME:CDT
DTSTART:20260308T080000
END:DAYLIGHT
BEGIN:STANDARD
TZOFFSETFROM:-0500
TZOFFSETTO:-0600
TZNAME:CST
DTSTART:20261101T070000
END:STANDARD
BEGIN:DAYLIGHT
TZOFFSETFROM:-0600
TZOFFSETTO:-0500
TZNAME:CDT
DTSTART:20270314T080000
END:DAYLIGHT
BEGIN:STANDARD
TZOFFSETFROM:-0500
TZOFFSETTO:-0600
TZNAME:CST
DTSTART:20271107T070000
END:STANDARD
END:VTIMEZONE
BEGIN:VEVENT
DTSTART;TZID=America/Chicago:20260512T180000
DTEND;TZID=America/Chicago:20260512T233000
DTSTAMP:20260420T071257
CREATED:20260212T164058Z
LAST-MODIFIED:20260212T164058Z
UID:10001998-1778608800-1778628600@897theriver.com
SUMMARY:Bring Me The Horizon
DESCRIPTION:Bring Me The Horizon\nMotionless In White\nThe Plot In You\nAmira Elfeky\n\nDoors: 5 pm.  Show: 6 pm
URL:https://897theriver.com/event/bring-me-the-horizon/
LOCATION:T-Mobile Center\, 1407 Grand Blvd\, Kansas City\, MO\, 64106\, United States
END:VEVENT
BEGIN:VEVENT
DTSTART;TZID=America/Chicago:20261109T190000
DTEND;TZID=America/Chicago:20261109T233000
DTSTAMP:20260420T071257
CREATED:20251118T205559Z
LAST-MODIFIED:20251118T205559Z
UID:10001905-1794250800-1794267000@897theriver.com
SUMMARY:Three Days Grace
DESCRIPTION:Alienation 2026 World Tour \n\nThree Days Grace\nI Prevail\nThe Funeral Portrait\n\nDoors: 6 pm.  Show: 7 pm
URL:https://897theriver.com/event/three-days-grace/
LOCATION:T-Mobile Center\, 1407 Grand Blvd\, Kansas City\, MO\, 64106\, United States
END:VEVENT
BEGIN:VEVENT
DTSTART;TZID=America/Chicago:20261116T190000
DTEND;TZID=America/Chicago:20261116T233000
DTSTAMP:20260420T071257
CREATED:20260403T192935Z
LAST-MODIFIED:20260403T192936Z
UID:10002053-1794855600-1794871800@897theriver.com
SUMMARY:The Neighbourhood
DESCRIPTION:The World Tour \n\nThe Neighbourhood\nNoise Dept\nNessa Barrett\n\nDoors: 6 pm.  Show: 7 pm
URL:https://897theriver.com/event/the-neighbourhood/
LOCATION:T-Mobile Center\, 1407 Grand Blvd\, Kansas City\, MO\, 64106\, United States
END:VEVENT
END:VCALENDAR